BEGIN:VCALENDAR
VERSION:2.0
PRODID:-//Westchester Institute for Human Development - ECPv6.0.10//NONSGML v1.0//EN
CALSCALE:GREGORIAN
METHOD:PUBLISH
X-ORIGINAL-URL:https://www.wihd.org
X-WR-CALDESC:Events for Westchester Institute for Human Development
REFRESH-INTERVAL;VALUE=DURATION:PT1H
X-Robots-Tag:noindex
X-PUBLISHED-TTL:PT1H
BEGIN:VTIMEZONE
TZID:America/New_York
BEGIN:DAYLIGHT
TZOFFSETFROM:-0500
TZOFFSETTO:-0400
TZNAME:EDT
DTSTART:20260308T070000
END:DAYLIGHT
BEGIN:STANDARD
TZOFFSETFROM:-0400
TZOFFSETTO:-0500
TZNAME:EST
DTSTART:20261101T060000
END:STANDARD
END:VTIMEZONE
BEGIN:VEVENT
DTSTART;TZID=America/New_York:20261007T120000
DTEND;TZID=America/New_York:20261007T130000
DTSTAMP:20260421T112725
CREATED:20260311T150144Z
LAST-MODIFIED:20260311T150602Z
UID:21270-1791374400-1791378000@www.wihd.org
SUMMARY:Pre-Employment Transition (PRE-ETS) Informational Webinar
DESCRIPTION:Join us to learn about Pre-Employment Transition Services offered through Access-VR!\nThe Goal of Pre-ETS are to:\n*Improve transition results for students with disabilities in post-secondary education or employment.\n*Become prepared for the workplace through experiences in integrated work settings\n*Increase opportunities to explore post-secondary training option \nClick Here for Flyer and Registration
URL:https://www.wihd.org/event/pre-employment-transition-pre-ets-informational-webinar-2/
LOCATION:Zoom
CATEGORIES:Regional,Virtual Stream,WIHD
END:VEVENT
END:VCALENDAR