BEGIN:VCALENDAR
VERSION:2.0
PRODID:-//Westchester Institute for Human Development - ECPv6.0.10//NONSGML v1.0//EN
CALSCALE:GREGORIAN
METHOD:PUBLISH
X-WR-CALNAME:Westchester Institute for Human Development
X-ORIGINAL-URL:https://www.wihd.org
X-WR-CALDESC:Events for Westchester Institute for Human Development
REFRESH-INTERVAL;VALUE=DURATION:PT1H
X-Robots-Tag:noindex
X-PUBLISHED-TTL:PT1H
BEGIN:VTIMEZONE
TZID:America/New_York
BEGIN:DAYLIGHT
TZOFFSETFROM:-0500
TZOFFSETTO:-0400
TZNAME:EDT
DTSTART:20250309T070000
END:DAYLIGHT
BEGIN:STANDARD
TZOFFSETFROM:-0400
TZOFFSETTO:-0500
TZNAME:EST
DTSTART:20251102T060000
END:STANDARD
END:VTIMEZONE
BEGIN:VEVENT
DTSTART;TZID=America/New_York:20250805T120000
DTEND;TZID=America/New_York:20250805T130000
DTSTAMP:20260421T170741
CREATED:20250708T110946Z
LAST-MODIFIED:20250708T110946Z
UID:20558-1754395200-1754398800@www.wihd.org
SUMMARY:Explicit Vocabulary Instruction for Parents
DESCRIPTION:Participants will be able to explain the importance of vocabulary instruction for their children in the elementary grades and describe ways to incorporate explicit instruction and vocabulary instruction in the home. \nZoom Registration: Click Here
URL:https://www.wihd.org/event/explicit-vocabulary-instruction-for-parents-7/
LOCATION:Zoom
CATEGORIES:Regional,Virtual Stream,WIHD
END:VEVENT
BEGIN:VEVENT
DTSTART;TZID=America/New_York:20250805T120000
DTEND;TZID=America/New_York:20250805T133000
DTSTAMP:20260421T170741
CREATED:20250630T163035Z
LAST-MODIFIED:20250630T163035Z
UID:20550-1754395200-1754400600@www.wihd.org
SUMMARY:What Is an Individualized Education Program (IEP)? For Families of School-Age Students
DESCRIPTION:Parents and families are an important part of the Special Education process. Participants will gain a foundational understanding of the entire IEP process\, including but not limited to\, the Committee on Special Education (CSE)\, the roles and responsibilities of all parties\, the various components of the IEP\, and the transition planning process. \nZoom Registration Link: Click Here
URL:https://www.wihd.org/event/what-is-an-individualized-education-program-iep-for-families-of-school-age-students-7/
LOCATION:Zoom
CATEGORIES:Regional,Virtual Stream,WIHD
END:VEVENT
BEGIN:VEVENT
DTSTART;TZID=America/New_York:20250806T120000
DTEND;TZID=America/New_York:20250806T130000
DTSTAMP:20260421T170741
CREATED:20250630T172545Z
LAST-MODIFIED:20250630T172545Z
UID:20552-1754481600-1754485200@www.wihd.org
SUMMARY:ABLE (Achieving a Better Life Experience) Basics
DESCRIPTION:Would you like to learn more about Achieving a Better Life Experience (ABLE) accounts? \nCome to this workshop to find out how this financial tool can help individuals with disabilities save while receiving benefits. What is an ABLE account\, how it works and the eligibility requirements will be discussed. Potential ABLE participants and their families are invited. \nZoom Registration: Click Here
URL:https://www.wihd.org/event/able-achieving-a-better-life-experience-basics/
LOCATION:Zoom
CATEGORIES:Regional,Virtual Stream,WIHD
END:VEVENT
BEGIN:VEVENT
DTSTART;TZID=America/New_York:20250821T090000
DTEND;TZID=America/New_York:20250821T110000
DTSTAMP:20260421T170741
CREATED:20250717T202402Z
LAST-MODIFIED:20250717T202402Z
UID:20614-1755766800-1755774000@www.wihd.org
SUMMARY:Introducing Elementary Students to the World of Work: Career Development Across the Lifespan
DESCRIPTION:Please join us for Introducing Elementary Students to the World of Work\, a session focused on the importance of starting career development early for students with disabilities. We will explore and expand elementary-level activities that support self-awareness\, career identity\, and exploration. The session will also emphasize the value of collaboration among schools\, families\, and community partners\, and provide resources and strategies to ensure meaningful and lasting career development experiences for elementary-aged students with disabilities. \nZoom Registration: Click Here
URL:https://www.wihd.org/event/introducing-elementary-students-to-the-world-of-work-career-development-across-the-lifespan/
LOCATION:Zoom
CATEGORIES:Regional,Virtual Stream,WIHD
END:VEVENT
BEGIN:VEVENT
DTSTART;TZID=America/New_York:20250826T120000
DTEND;TZID=America/New_York:20250826T133000
DTSTAMP:20260421T170741
CREATED:20250723T174512Z
LAST-MODIFIED:20250723T174512Z
UID:20624-1756209600-1756215000@www.wihd.org
SUMMARY:Family Guide to Transition Planning: Preparing Students with Disabilities for Life after High School
DESCRIPTION:The purpose of this training is to assist families in understanding the transition planning process specifically from high school to life after high school. When families are knowledgeable about the transition process and invited to participate by schools\, students with disabilities experience improved post-school outcomes\, in the areas of employment\, postsecondary education\, and independent living. \nZoom Registration: Click Here
URL:https://www.wihd.org/event/family-guide-to-transition-planning-preparing-students-with-disabilities-for-life-after-high-school-5/
LOCATION:Zoom
CATEGORIES:Regional,Virtual Stream,WIHD
END:VEVENT
END:VCALENDAR