BEGIN:VCALENDAR
VERSION:2.0
PRODID:-//Westchester Institute for Human Development - ECPv6.0.10//NONSGML v1.0//EN
CALSCALE:GREGORIAN
METHOD:PUBLISH
X-ORIGINAL-URL:https://www.wihd.org
X-WR-CALDESC:Events for Westchester Institute for Human Development
REFRESH-INTERVAL;VALUE=DURATION:PT1H
X-Robots-Tag:noindex
X-PUBLISHED-TTL:PT1H
BEGIN:VTIMEZONE
TZID:America/New_York
BEGIN:DAYLIGHT
TZOFFSETFROM:-0500
TZOFFSETTO:-0400
TZNAME:EDT
DTSTART:20240310T070000
END:DAYLIGHT
BEGIN:STANDARD
TZOFFSETFROM:-0400
TZOFFSETTO:-0500
TZNAME:EST
DTSTART:20241103T060000
END:STANDARD
END:VTIMEZONE
BEGIN:VEVENT
DTSTART;TZID=America/New_York:20240305T120000
DTEND;TZID=America/New_York:20240305T130000
DTSTAMP:20260423T013400
CREATED:20240108T181638Z
LAST-MODIFIED:20240108T181727Z
UID:18252-1709640000-1709643600@www.wihd.org
SUMMARY:Family Forum: Preparing for Your Child's Annual Review / Cómo Prepararse Para la Revisión Anual de Su Hijo
DESCRIPTION:This training will be available in English and Spanish simultaneously. Este entrenamiento estará disponible en inglés y español simultáneamente. \nParents are integral partners in the special education process. Join this conversation as we explore how parents can effectively prepare for the annual review and be an effective member of the CSE. Learn about planning strategies\, approaching differences of opinion\, and keeping the focus on your child. Presented by: Community Support Network \nLos padres son socios integrales en el proceso de educación especial. Únase a esta conversación mientras exploramos cómo los padres pueden prepararse eficazmente para la revisión anual y ser un miembro eficaz del CSE. Aprenda a planificar estrategias\, abordar las diferencias de opinión y mantener la atención en su hijo. Presentado por: Red de Apoyo Comunitario \nZoom Link: Click Here \nEnlace de Zoom para la registracion: Haga clic aquí
URL:https://www.wihd.org/event/family-forum-preparing-for-your-childs-annual-review-como-prepararse-para-la-revision-anual-de-su-hijo/
LOCATION:Zoom
CATEGORIES:Regional,Virtual Stream,WIHD
END:VEVENT
BEGIN:VEVENT
DTSTART;TZID=America/New_York:20240306T120000
DTEND;TZID=America/New_York:20240306T130000
DTSTAMP:20260423T013400
CREATED:20240221T003226Z
LAST-MODIFIED:20240221T003331Z
UID:18412-1709726400-1709730000@www.wihd.org
SUMMARY:Toma de decisiones con apoyo: una alternativa a la tutela / Supported Decision Making: An Alternative to Guardianship
DESCRIPTION:Míercoles 6 de Marzo de 2024 – 12:00 pm a 1:00 pm \nWednesday\, March 6\, 2024 – 12:00 pm to 1:00 pm \nEste taller se impartirá únicamente en español. \nThis workshop will be given in Spanish only. \nLa Toma de decisiones con apoyo es una alternativa a la tutela que\, a diferencia de esta última\, le permite a un individuo con una discapacidad intelectual o del desarrollo (DI/D) preservar su derecho a tomar decisiones por sí mismo mientras recibe apoyo de personas que ha elegido. Acompáñenos a nuestra presentación con Stephanie Avendaño. Stephanie es una mentora con SDMNY\, la organización que redacta y gestiona los acuerdos de toma de decisiones con apoyo en el estado de Nueva York. \nSupported Decision-Making is an alternative to guardianship which\, unlike guardianship\, allows an individual with an intellectual or developmental disability (I/DD) to retain their legal decision-making rights while being supported in decision-making by the people they choose. Join us for a presentation by Stephanie Avendaño. Stephanie is a mentor with SDMNY\, the organization that drafts and oversees supported decision-making agreements in New York State. \nEnlace de Zoom para la registracion: Haga clic aquí \nZoom Registration Link: Click Here
URL:https://www.wihd.org/event/toma-de-decisiones-con-apoyo-una-alternativa-a-la-tutela-supported-decision-making-an-alternative-to-guardianship/
LOCATION:Zoom
CATEGORIES:Regional,Virtual Stream,WIHD
END:VEVENT
BEGIN:VEVENT
DTSTART;TZID=America/New_York:20240307T180000
DTEND;TZID=America/New_York:20240307T193000
DTSTAMP:20260423T013400
CREATED:20240214T000545Z
LAST-MODIFIED:20240214T000545Z
UID:18396-1709834400-1709839800@www.wihd.org
SUMMARY:Diploma and Credential Options for Students with Disabilities
DESCRIPTION:Participants will learn about self-determination skills and its relation to students determining an individualized pathway to graduation from multiple options. Credit and diploma requirements\, the appeal eligibility criteria for all students\, and safety-net options for students with disabilities will be reviewed. Learn how earning a Career Development and Occupational Studies (CDOS) Commencement Credential is beneficial in a number of ways and understand the guidelines for the Skills and Achievement Commencement Credential which is awarded to students participating in the New York State Alternate Assessment (NYSAA) testing program. \nZoom Link: Click Here
URL:https://www.wihd.org/event/diploma-and-credential-options-for-students-with-disabilities-10/
LOCATION:Zoom
CATEGORIES:Regional,Virtual Stream,WIHD
END:VEVENT
BEGIN:VEVENT
DTSTART;TZID=America/New_York:20240312T100000
DTEND;TZID=America/New_York:20240312T110000
DTSTAMP:20260423T013400
CREATED:20240117T145935Z
LAST-MODIFIED:20240117T150752Z
UID:18291-1710237600-1710241200@www.wihd.org
SUMMARY:EI (Early Intervention) to CPSE (Preschool Special Education) for Families
DESCRIPTION:This presentation will guide parents through the process of transitioning their child from Early Intervention to the Committee on Preschool Special Education. \nZoom Registration Link: Click Here
URL:https://www.wihd.org/event/ei-early-intervention-to-cpse-preschool-special-education-for-families-4/
LOCATION:Zoom
CATEGORIES:Regional,Virtual Stream,WIHD
END:VEVENT
BEGIN:VEVENT
DTSTART;TZID=America/New_York:20240314T120000
DTEND;TZID=America/New_York:20240314T130000
DTSTAMP:20260423T013400
CREATED:20240305T155209Z
LAST-MODIFIED:20240305T155604Z
UID:18491-1710417600-1710421200@www.wihd.org
SUMMARY:Topic 17a Taller de lengua española sobre tutela/17A Guardianship (Spanish language workshop)
DESCRIPTION:Fecha y hora: 14 de marzo de 2024 12-1pmh \nEste taller se impartirá únicamente en español. \nThis workshop will be given in Spanish only. \nEste taller sobre tutela 17A está dirigido a cuidadores que ya asistieron a nuestro taller sobre toma de decisiones con apoyo del 6 de marzo. 17Una tutela es la forma de tutela otorgada a los cuidadores de personas con discapacidades intelectuales o del desarrollo. Dado que la tutela se considera la forma más restrictiva de apoyo a las decisiones\, se recomienda que considere la toma de decisiones con apoyo antes de comenzar el proceso de tutela. Para nuestro taller de tutela del 14 de marzo revisaremos los requisitos para la tutela y el proceso de elaboración de una petición de tutela. \nThis workshop on 17A guardianship is intended for caregivers who have already attended our March 6 Supported Decision-Making workshop. 17A guardianship is the form of guardianship granted to caregivers of individuals with intellectual or developmental disabilities. Since guardianship is considered the most restrictive form of decision support\, it is recommended that you consider Supported Decision Making before starting the guardianship process. For our March 14 guardianship workshop we will review the requirements for guardianship and the process of putting together a guardianship petition. \nEnlace de Zoom para la registracion: Haga clic aquí \nZoom Registration Link: Click Here
URL:https://www.wihd.org/event/topic-17a-taller-de-lengua-espanola-sobre-tutela-17a-guardianship-spanish-language-workshop/
LOCATION:Zoom
CATEGORIES:Regional,Virtual Stream,WIHD
END:VEVENT
BEGIN:VEVENT
DTSTART;TZID=America/New_York:20240314T180000
DTEND;TZID=America/New_York:20240314T193000
DTSTAMP:20260423T013400
CREATED:20240205T175425Z
LAST-MODIFIED:20240205T175425Z
UID:18382-1710439200-1710444600@www.wihd.org
SUMMARY:What Is an Individualized Education Program (IEP)? For Families of School-Age Students
DESCRIPTION:The purpose of “What is an IEP? For Families of School-Age Students” is to gain a foundational understanding of the entire IEP process\, including but not limited to\, the Committee on Special Education (CSE)\, the roles and responsibilities of all parties\, the various components of the IEP\, and the transition planning process. \nZoom Registration Link: Click Here
URL:https://www.wihd.org/event/what-is-an-individualized-education-program-iep-for-families-of-school-age-students-2/
LOCATION:Zoom
CATEGORIES:Regional,Virtual Stream,WIHD
END:VEVENT
BEGIN:VEVENT
DTSTART;TZID=America/New_York:20240315T100000
DTEND;TZID=America/New_York:20240315T113000
DTSTAMP:20260423T013400
CREATED:20240105T002356Z
LAST-MODIFIED:20240105T002356Z
UID:18247-1710496800-1710502200@www.wihd.org
SUMMARY:Office for People with Developmental Disabilities (OPWDD) Services and Eligibility
DESCRIPTION:Please join us for a workshop on OPWDD services and eligibility. The New York State Office for People With Developmental Disabilities (OPWDD) is responsible for coordinating services for New Yorkers with developmental and intellectual disabilities. Through this workshop you will learn about the range of OPWDD services available to you and your loved one\, and about the requirements for service eligibility. \nZoom Registration Link:  Click Here
URL:https://www.wihd.org/event/office-for-people-with-developmental-disabilities-opwdd-services-and-eligibility-5/
LOCATION:Zoom
CATEGORIES:Regional,Virtual Stream,WIHD
END:VEVENT
BEGIN:VEVENT
DTSTART;TZID=America/New_York:20240319T120000
DTEND;TZID=America/New_York:20240319T130000
DTSTAMP:20260423T013400
CREATED:20240226T233435Z
LAST-MODIFIED:20240226T233435Z
UID:18430-1710849600-1710853200@www.wihd.org
SUMMARY:OPWDD Self-Direction
DESCRIPTION:Learn about OPWDD’s self-direction services which allows for more choice in OPWDD-funded supports and services. The individual must be eligible for OPWDD services\, enrolled in the Home and Community Based (HCBS) Waiver\, and participating in Care Management services through a Care Coordination Organization (CCO) to be approved for self-direction. Therefore\, it is recommended that you first attend a workshop on OPWDD eligibility if the person with the disability does not already have it. \nZoom Registration Link: Click Here
URL:https://www.wihd.org/event/opwdd-self-direction-3/
LOCATION:Zoom
CATEGORIES:Regional,Virtual Stream,WIHD
END:VEVENT
END:VCALENDAR