BEGIN:VCALENDAR
VERSION:2.0
PRODID:-//Westchester Institute for Human Development - ECPv6.0.10//NONSGML v1.0//EN
CALSCALE:GREGORIAN
METHOD:PUBLISH
X-WR-CALNAME:Westchester Institute for Human Development
X-ORIGINAL-URL:https://www.wihd.org
X-WR-CALDESC:Events for Westchester Institute for Human Development
REFRESH-INTERVAL;VALUE=DURATION:PT1H
X-Robots-Tag:noindex
X-PUBLISHED-TTL:PT1H
BEGIN:VTIMEZONE
TZID:America/New_York
BEGIN:DAYLIGHT
TZOFFSETFROM:-0500
TZOFFSETTO:-0400
TZNAME:EDT
DTSTART:20260308T070000
END:DAYLIGHT
BEGIN:STANDARD
TZOFFSETFROM:-0400
TZOFFSETTO:-0500
TZNAME:EST
DTSTART:20261101T060000
END:STANDARD
END:VTIMEZONE
BEGIN:VEVENT
DTSTART;TZID=America/New_York:20260609T120000
DTEND;TZID=America/New_York:20260609T133000
DTSTAMP:20260425T075341
CREATED:20260404T125957Z
LAST-MODIFIED:20260404T130148Z
UID:21355-1781006400-1781011800@www.wihd.org
SUMMARY:Agency 101-An Overview of Services to Support Students with Disabilities into Adulthood
DESCRIPTION:This session will provide an overview of the primary State and community agency providers available in New York state (NYS) and the services each agency offers. Participants\, including students and families\, will gain knowledge of available resources\, appropriate referral options\, and related processes. The goal is to increase appropriate referrals\, as these supports are shown to correlate with improved outcomes for students with disabilities. \nZoom Registration: Click Here
URL:https://www.wihd.org/event/agency-101-an-overview-of-services-to-support-students-with-disabilities-into-adulthood/
LOCATION:Zoom
CATEGORIES:Regional,Virtual Stream,WIHD
END:VEVENT
BEGIN:VEVENT
DTSTART;TZID=America/New_York:20260610T100000
DTEND;TZID=America/New_York:20260610T120000
DTSTAMP:20260425T075341
CREATED:20260206T000416Z
LAST-MODIFIED:20260206T000416Z
UID:21167-1781085600-1781092800@www.wihd.org
SUMMARY:Positive Solutions for Families (series)
DESCRIPTION:Join us for a four-session workshop series for parents\, families\, and caregivers. These sessions will provide strategies to support your children’s social and emotional development and address challenging behaviors in a positive\, effective way. \nWorkshop Details: Four sessions*\, once a month on a Wednesday from 10am-12pm \nDates: \nMarch 11 Making the Connection & Keeping it Positive \nApril 15 Behavior Has Meaning & the Power of Routine \nMay 13 Teach Me What to Do & Responding with Purpose \nJune 10 Putting It All Together with a Plan \n*Attending all four sessions is encouraged but optional. Resources and tools will be provided before each session. \nZoom Registration: Click Here
URL:https://www.wihd.org/event/positive-solutions-for-families-series-12/
LOCATION:Zoom
CATEGORIES:Regional,Virtual Stream,WIHD
END:VEVENT
BEGIN:VEVENT
DTSTART;TZID=America/New_York:20260611T120000
DTEND;TZID=America/New_York:20260611T133000
DTSTAMP:20260425T075341
CREATED:20260424T151752Z
LAST-MODIFIED:20260424T151752Z
UID:21406-1781179200-1781184600@www.wihd.org
SUMMARY:An Introduction to Transition Planning
DESCRIPTION:The purpose of this training is to provide participants with a high-level understanding of student- centered transition planning\, including its purpose and significance in supporting students with disabilities as they prepare for life after high school. The training covers relevant New York State (NYS) regulations and federal requirements\, highlights where transition is addressed within the Individualized Education Program (IEP)\, and explores the role and types of transition assessments. Additionally\, the training will cover multiple graduation pathways\, diploma\, and credential options. Families will learn strategies to meaningfully engage in the process. The training also introduces the range of agencies and services available to support successful post- school outcomes. \nZoom Registration: Click Here
URL:https://www.wihd.org/event/an-introduction-to-transition-planning/
LOCATION:Zoom
CATEGORIES:Regional,Virtual Stream,WIHD
END:VEVENT
BEGIN:VEVENT
DTSTART;TZID=America/New_York:20260617T110000
DTEND;TZID=America/New_York:20260617T120000
DTSTAMP:20260425T075341
CREATED:20260424T174151Z
LAST-MODIFIED:20260424T174151Z
UID:21409-1781694000-1781697600@www.wihd.org
SUMMARY:EI (Early Intervention) to CPSE (Committee on Preschool Special Education) for Families
DESCRIPTION:This presentation will guide families through the process of transitioning their child from Early Intervention (EI) to the Committee on Preschool Special Education (CPSE). \nZoom Registration: Click Here
URL:https://www.wihd.org/event/ei-early-intervention-to-cpse-committee-on-preschool-special-education-for-families-6/
LOCATION:Zoom
CATEGORIES:Regional,Virtual Stream,WIHD
END:VEVENT
BEGIN:VEVENT
DTSTART;TZID=America/New_York:20261007T120000
DTEND;TZID=America/New_York:20261007T130000
DTSTAMP:20260425T075341
CREATED:20260311T150144Z
LAST-MODIFIED:20260311T150602Z
UID:21270-1791374400-1791378000@www.wihd.org
SUMMARY:Pre-Employment Transition (PRE-ETS) Informational Webinar
DESCRIPTION:Join us to learn about Pre-Employment Transition Services offered through Access-VR!\nThe Goal of Pre-ETS are to:\n*Improve transition results for students with disabilities in post-secondary education or employment.\n*Become prepared for the workplace through experiences in integrated work settings\n*Increase opportunities to explore post-secondary training option \nClick Here for Flyer and Registration
URL:https://www.wihd.org/event/pre-employment-transition-pre-ets-informational-webinar-2/
LOCATION:Zoom
CATEGORIES:Regional,Virtual Stream,WIHD
END:VEVENT
END:VCALENDAR