BEGIN:VCALENDAR
VERSION:2.0
PRODID:-//Westchester Institute for Human Development - ECPv6.0.10//NONSGML v1.0//EN
CALSCALE:GREGORIAN
METHOD:PUBLISH
X-WR-CALNAME:Westchester Institute for Human Development
X-ORIGINAL-URL:https://www.wihd.org
X-WR-CALDESC:Events for Westchester Institute for Human Development
REFRESH-INTERVAL;VALUE=DURATION:PT1H
X-Robots-Tag:noindex
X-PUBLISHED-TTL:PT1H
BEGIN:VTIMEZONE
TZID:America/New_York
BEGIN:DAYLIGHT
TZOFFSETFROM:-0500
TZOFFSETTO:-0400
TZNAME:EDT
DTSTART:20230312T070000
END:DAYLIGHT
BEGIN:STANDARD
TZOFFSETFROM:-0400
TZOFFSETTO:-0500
TZNAME:EST
DTSTART:20231105T060000
END:STANDARD
BEGIN:DAYLIGHT
TZOFFSETFROM:-0500
TZOFFSETTO:-0400
TZNAME:EDT
DTSTART:20240310T070000
END:DAYLIGHT
BEGIN:STANDARD
TZOFFSETFROM:-0400
TZOFFSETTO:-0500
TZNAME:EST
DTSTART:20241103T060000
END:STANDARD
END:VTIMEZONE
BEGIN:VEVENT
DTSTART;TZID=America/New_York:20240123T100000
DTEND;TZID=America/New_York:20240123T113000
DTSTAMP:20260422T111413
CREATED:20231023T153212Z
LAST-MODIFIED:20231023T153940Z
UID:18068-1706004000-1706009400@www.wihd.org
SUMMARY:What is an Individualized Education Program (IEP) For Families of Preschool Students
DESCRIPTION:This workshop will provide families/parents and caregivers an overview of the process for developing an Individual Education Program (IEP) using a collaborative approach. The training provides a review of the areas of the IEP and the information that a parent\, family and/or caregiver can share with the Committee on Preschool Special Education (CPSE) regarding their child’s performance and disability related needs. \nParticipants will: \nUnderstand the Committee on Preschool Special Education (CPSE) process and your role within the process​ Identify the different components of the IEP​ Discuss how to develop relationships and practices that build home-school collaboration and support the student. \nZoom Registration Link: Click Here \n 
URL:https://www.wihd.org/event/what-is-an-individualized-education-program-iep-for-families-of-preschool-students/
LOCATION:Zoom
CATEGORIES:Regional,Virtual Stream,WIHD
END:VEVENT
BEGIN:VEVENT
DTSTART;TZID=America/New_York:20231116T160000
DTEND;TZID=America/New_York:20231116T190000
DTSTAMP:20260422T111413
CREATED:20230922T224851Z
LAST-MODIFIED:20230922T225039Z
UID:17889-1700150400-1700161200@www.wihd.org
SUMMARY:Resource and Transition Fair
DESCRIPTION:Putnam Transition Fair Flyer 11-16-23 \n 
URL:https://www.wihd.org/event/resource-and-transition-fair/
LOCATION:Brewster High School
CATEGORIES:Regional,Virtual Stream,WIHD
END:VEVENT
BEGIN:VEVENT
DTSTART;TZID=America/New_York:20230808T120000
DTEND;TZID=America/New_York:20230808T130000
DTSTAMP:20260422T111413
CREATED:20230718T142433Z
LAST-MODIFIED:20230718T144840Z
UID:17575-1691496000-1691499600@www.wihd.org
SUMMARY:Supplemental Security Income (SSI) Basics
DESCRIPTION:Are you considering applying for Supplemental Security Income (SSI) for your family member? Come to this workshop to learn some tips and tricks to the application process. When and how to apply\, the eligibility requirements and how to best make the process less stressful. \nPresented by: Community Support Network \nZoom Registration Link: Click here
URL:https://www.wihd.org/event/supplemental-security-income-ssi-basics-7/
LOCATION:Zoom
CATEGORIES:Regional,Virtual Stream,WIHD
END:VEVENT
BEGIN:VEVENT
DTSTART;TZID=America/New_York:20230511T183000
DTEND;TZID=America/New_York:20230511T200000
DTSTAMP:20260422T111413
CREATED:20230430T202052Z
LAST-MODIFIED:20230504T170849Z
UID:16942-1683829800-1683835200@www.wihd.org
SUMMARY:Addressing Cyberbullying
DESCRIPTION:This virtual presentation will provide participants with a better understanding of how parents and professionals can protect students with disabilities from cyberbullying which can involve sending mean\, vulgar\, or threatening messages or images through the use of technology such as computers and cell phones. Questions will be answered on what should be done if you suspect cyberbullying and suggestions will be offered on how to prevent online cruelty and the harassment of vulnerable youth through social media. \nFor further information\, please contact: Nancy Nowak at Disability Rights New York: Nancy.Nowak@drny.org or 516.238.1261 \nPresented by: Mid-Hudson Special Education Task Force \nClick Here for Flyer and Registration
URL:https://www.wihd.org/event/addressing-cyberbullying/
LOCATION:Zoom
CATEGORIES:Regional,Virtual Stream,WIHD
END:VEVENT
END:VCALENDAR