BEGIN:VCALENDAR
VERSION:2.0
PRODID:-//Westchester Institute for Human Development - ECPv6.0.10//NONSGML v1.0//EN
CALSCALE:GREGORIAN
METHOD:PUBLISH
X-ORIGINAL-URL:https://www.wihd.org
X-WR-CALDESC:Events for Westchester Institute for Human Development
REFRESH-INTERVAL;VALUE=DURATION:PT1H
X-Robots-Tag:noindex
X-PUBLISHED-TTL:PT1H
BEGIN:VTIMEZONE
TZID:America/New_York
BEGIN:DAYLIGHT
TZOFFSETFROM:-0500
TZOFFSETTO:-0400
TZNAME:EDT
DTSTART:20260308T070000
END:DAYLIGHT
BEGIN:STANDARD
TZOFFSETFROM:-0400
TZOFFSETTO:-0500
TZNAME:EST
DTSTART:20261101T060000
END:STANDARD
END:VTIMEZONE
BEGIN:VEVENT
DTSTART;TZID=America/New_York:20260609T120000
DTEND;TZID=America/New_York:20260609T133000
DTSTAMP:20260421T140212
CREATED:20260404T125957Z
LAST-MODIFIED:20260404T130148Z
UID:21355-1781006400-1781011800@www.wihd.org
SUMMARY:Agency 101-An Overview of Services to Support Students with Disabilities into Adulthood
DESCRIPTION:This session will provide an overview of the primary State and community agency providers available in New York state (NYS) and the services each agency offers. Participants\, including students and families\, will gain knowledge of available resources\, appropriate referral options\, and related processes. The goal is to increase appropriate referrals\, as these supports are shown to correlate with improved outcomes for students with disabilities. \nZoom Registration: Click Here
URL:https://www.wihd.org/event/agency-101-an-overview-of-services-to-support-students-with-disabilities-into-adulthood/
LOCATION:Zoom
CATEGORIES:Regional,Virtual Stream,WIHD
END:VEVENT
END:VCALENDAR