BEGIN:VCALENDAR
VERSION:2.0
PRODID:-//Westchester Institute for Human Development - ECPv6.0.10//NONSGML v1.0//EN
CALSCALE:GREGORIAN
METHOD:PUBLISH
X-ORIGINAL-URL:https://www.wihd.org
X-WR-CALDESC:Events for Westchester Institute for Human Development
REFRESH-INTERVAL;VALUE=DURATION:PT1H
X-Robots-Tag:noindex
X-PUBLISHED-TTL:PT1H
BEGIN:VTIMEZONE
TZID:America/New_York
BEGIN:DAYLIGHT
TZOFFSETFROM:-0500
TZOFFSETTO:-0400
TZNAME:EDT
DTSTART:20260308T070000
END:DAYLIGHT
BEGIN:STANDARD
TZOFFSETFROM:-0400
TZOFFSETTO:-0500
TZNAME:EST
DTSTART:20261101T060000
END:STANDARD
END:VTIMEZONE
BEGIN:VEVENT
DTSTART;TZID=America/New_York:20260423T120000
DTEND;TZID=America/New_York:20260423T130000
DTSTAMP:20260421T105226
CREATED:20260407T144523Z
LAST-MODIFIED:20260407T144808Z
UID:21361-1776945600-1776949200@www.wihd.org
SUMMARY:Self-Direction: An Overview
DESCRIPTION:Learn about OPWDD’s self-direction services which allows for more choice in OPWDD-funded supports and services. The individual must be eligible for OPWDD services and participating in Care Management services through a Care Coordination Organization (CCO) to be approved for self-direction. Therefore\, it is recommended that you first attend a workshop on OPWDD eligibility if the person with the disability does not already have it.  \nZoom Registration: Click Here
URL:https://www.wihd.org/event/self-direction-an-overview-10/
LOCATION:Zoom
CATEGORIES:Regional,Virtual Stream,WIHD
END:VEVENT
BEGIN:VEVENT
DTSTART;TZID=America/New_York:20260423T150000
DTEND;TZID=America/New_York:20260423T170000
DTSTAMP:20260421T105226
CREATED:20260225T010312Z
LAST-MODIFIED:20260225T010916Z
UID:21227-1776956400-1776963600@www.wihd.org
SUMMARY:The 2026 TRANSITION FAIR
DESCRIPTION:Join us at the Orange County 2026 Transition Fair! \n\nStudents and families are invited to explore and connect with community resources and supports that promote a successful transition to life after school. \nClick Here for Flyer and Registration
URL:https://www.wihd.org/event/21227/
LOCATION:Orange-Ulster BOCES\, Emanuel Axelrod Education Center\, Emanuel Axelrod Education Center\, 53 Gibson Road\, Goshen\, NY\, 10924\, United States
CATEGORIES:Regional,Virtual Stream,WIHD
END:VEVENT
END:VCALENDAR