BEGIN:VCALENDAR
VERSION:2.0
PRODID:-//Westchester Institute for Human Development - ECPv6.0.10//NONSGML v1.0//EN
CALSCALE:GREGORIAN
METHOD:PUBLISH
X-ORIGINAL-URL:https://www.wihd.org
X-WR-CALDESC:Events for Westchester Institute for Human Development
REFRESH-INTERVAL;VALUE=DURATION:PT1H
X-Robots-Tag:noindex
X-PUBLISHED-TTL:PT1H
BEGIN:VTIMEZONE
TZID:America/New_York
BEGIN:DAYLIGHT
TZOFFSETFROM:-0500
TZOFFSETTO:-0400
TZNAME:EDT
DTSTART:20260308T070000
END:DAYLIGHT
BEGIN:STANDARD
TZOFFSETFROM:-0400
TZOFFSETTO:-0500
TZNAME:EST
DTSTART:20261101T060000
END:STANDARD
END:VTIMEZONE
BEGIN:VEVENT
DTSTART;TZID=America/New_York:20260414T120000
DTEND;TZID=America/New_York:20260414T133000
DTSTAMP:20260421T122542
CREATED:20260315T160337Z
LAST-MODIFIED:20260315T160337Z
UID:21298-1776168000-1776173400@www.wihd.org
SUMMARY:Student Involvement in the Individualized Education Program (IEP) for Families
DESCRIPTION:The purpose of this training is to promote and encourage student and family involvement in the IEP development process and Committee on Special Education (CSE) meetings.  Concepts and resources that enhance involvement in student pre-meeting preparation\, during the meeting participation and post-meeting activities\, will be shared. \nZoom Registration: Click Here
URL:https://www.wihd.org/event/student-involvement-in-the-individualized-education-program-iep-for-families-7/
LOCATION:Zoom
CATEGORIES:Regional,Virtual Stream,WIHD
END:VEVENT
BEGIN:VEVENT
DTSTART;TZID=America/New_York:20260414T180000
DTEND;TZID=America/New_York:20260414T190000
DTSTAMP:20260421T122542
CREATED:20260312T171504Z
LAST-MODIFIED:20260312T171504Z
UID:21291-1776189600-1776193200@www.wihd.org
SUMMARY:Hear Our Voices! Relationship Skills Group
DESCRIPTION:Join us each month to learn and practice social skills in a safe space for young adults with disabilities. Start your journey to build healthy friendships and become a part of your community! \nClick Here for Zoom Registration
URL:https://www.wihd.org/event/hear-our-voices-relationship-skills-group-3/
LOCATION:Zoom
CATEGORIES:Regional,Virtual Stream,WIHD
END:VEVENT
END:VCALENDAR