BEGIN:VCALENDAR
VERSION:2.0
PRODID:-//Westchester Institute for Human Development - ECPv6.0.10//NONSGML v1.0//EN
CALSCALE:GREGORIAN
METHOD:PUBLISH
X-ORIGINAL-URL:https://www.wihd.org
X-WR-CALDESC:Events for Westchester Institute for Human Development
REFRESH-INTERVAL;VALUE=DURATION:PT1H
X-Robots-Tag:noindex
X-PUBLISHED-TTL:PT1H
BEGIN:VTIMEZONE
TZID:America/New_York
BEGIN:DAYLIGHT
TZOFFSETFROM:-0500
TZOFFSETTO:-0400
TZNAME:EDT
DTSTART:20260308T070000
END:DAYLIGHT
BEGIN:STANDARD
TZOFFSETFROM:-0400
TZOFFSETTO:-0500
TZNAME:EST
DTSTART:20261101T060000
END:STANDARD
END:VTIMEZONE
BEGIN:VEVENT
DTSTART;TZID=America/New_York:20260325T120000
DTEND;TZID=America/New_York:20260325T131500
DTSTAMP:20260421T122734
CREATED:20260304T011652Z
LAST-MODIFIED:20260304T011652Z
UID:21256-1774440000-1774444500@www.wihd.org
SUMMARY:Advance Directives
DESCRIPTION:Join us for a presentation by Stacy M. Sadove\, Esq.\, on advance directives. Advance directives are legal instruments that can provide protection regarding healthcare\, finance and other decisions for adults with intellectual or developmental disabilities. Advance directives offer a less restrictive form of decision-making protection compared to guardianship. Stacy is a founding Partner of Fitzgerald & Sadove PLLC. \nZoom Registration: Click Here
URL:https://www.wihd.org/event/advance-directives/
LOCATION:Zoom
CATEGORIES:Regional,Virtual Stream,WIHD
END:VEVENT
END:VCALENDAR