BEGIN:VCALENDAR
VERSION:2.0
PRODID:-//Westchester Institute for Human Development - ECPv6.0.10//NONSGML v1.0//EN
CALSCALE:GREGORIAN
METHOD:PUBLISH
X-WR-CALNAME:Westchester Institute for Human Development
X-ORIGINAL-URL:https://www.wihd.org
X-WR-CALDESC:Events for Westchester Institute for Human Development
REFRESH-INTERVAL;VALUE=DURATION:PT1H
X-Robots-Tag:noindex
X-PUBLISHED-TTL:PT1H
BEGIN:VTIMEZONE
TZID:America/New_York
BEGIN:DAYLIGHT
TZOFFSETFROM:-0500
TZOFFSETTO:-0400
TZNAME:EDT
DTSTART:20260308T070000
END:DAYLIGHT
BEGIN:STANDARD
TZOFFSETFROM:-0400
TZOFFSETTO:-0500
TZNAME:EST
DTSTART:20261101T060000
END:STANDARD
END:VTIMEZONE
BEGIN:VEVENT
DTSTART;TZID=America/New_York:20260210T120000
DTEND;TZID=America/New_York:20260210T133000
DTSTAMP:20260421T135857
CREATED:20250918T202658Z
LAST-MODIFIED:20250918T234407Z
UID:20789-1770724800-1770730200@www.wihd.org
SUMMARY:Positive Solutions for Families (Series)
DESCRIPTION:Positive Solutions for Families \nJoin us for a four-session workshop series for parents\, families\, and caregivers of children ages 2-5. \nThese sessions will provide strategies to support your children’s social and emotional development and address challenging behaviors in a positive\, effective way. \nWorkshop details: Four sessions*\, once a month on a Tuesday from 12-1:30pm \nDates: \nNov 18 Making the Connection & Keeping it Positive \nDec 16 Behavior Has Meaning & the Power of Routine \nJan 13 Teach Me What to Do & Responding with Purpose \nFeb 10 Putting It All Together with a Plan \n*Attending all four sessions is encouraged but optional. Resources and tools will be provided before each session. \nZoom Registration: Click Here
URL:https://www.wihd.org/event/positive-solutions-for-families-series-8/
LOCATION:Zoom
CATEGORIES:Regional,Virtual Stream,WIHD
END:VEVENT
BEGIN:VEVENT
DTSTART;TZID=America/New_York:20260210T180000
DTEND;TZID=America/New_York:20260210T190000
DTSTAMP:20260421T135857
CREATED:20260209T171635Z
LAST-MODIFIED:20260209T171635Z
UID:21182-1770746400-1770750000@www.wihd.org
SUMMARY:Hear Our Voices! Relationship Skills Group
DESCRIPTION:Join us each month to learn and practice social skills in a safe space for young adults with disabilities. Start your journey to build healthy friendships and become a part of your community! \nClick Here for Zoom Registration
URL:https://www.wihd.org/event/hear-our-voices-relationship-skills-group-2/
LOCATION:Zoom
CATEGORIES:Regional,Virtual Stream,WIHD
END:VEVENT
BEGIN:VEVENT
DTSTART;TZID=America/New_York:20260210T180000
DTEND;TZID=America/New_York:20260210T193000
DTSTAMP:20260421T135857
CREATED:20251215T163211Z
LAST-MODIFIED:20251215T163211Z
UID:21042-1770746400-1770751800@www.wihd.org
SUMMARY:Student Involvement in the Individualized Education Program (IEP) for Families
DESCRIPTION:The purpose of this training is to promote and encourage student and family involvement in the IEP development process and Committee on Special Education (CSE) meetings. Concepts and resources that enhance involvement in student pre-meeting preparation\, during the meeting participation and post-meeting activities\, will be shared. \nZoom Registration: Click Here
URL:https://www.wihd.org/event/student-involvement-in-the-individualized-education-program-iep-for-families-6/
LOCATION:Zoom
CATEGORIES:Regional,Virtual Stream,WIHD
END:VEVENT
END:VCALENDAR