BEGIN:VCALENDAR
VERSION:2.0
PRODID:-//Westchester Institute for Human Development - ECPv6.0.10//NONSGML v1.0//EN
CALSCALE:GREGORIAN
METHOD:PUBLISH
X-ORIGINAL-URL:https://www.wihd.org
X-WR-CALDESC:Events for Westchester Institute for Human Development
REFRESH-INTERVAL;VALUE=DURATION:PT1H
X-Robots-Tag:noindex
X-PUBLISHED-TTL:PT1H
BEGIN:VTIMEZONE
TZID:America/New_York
BEGIN:DAYLIGHT
TZOFFSETFROM:-0500
TZOFFSETTO:-0400
TZNAME:EDT
DTSTART:20260308T070000
END:DAYLIGHT
BEGIN:STANDARD
TZOFFSETFROM:-0400
TZOFFSETTO:-0500
TZNAME:EST
DTSTART:20261101T060000
END:STANDARD
END:VTIMEZONE
BEGIN:VEVENT
DTSTART;TZID=America/New_York:20260115T120000
DTEND;TZID=America/New_York:20260115T130000
DTSTAMP:20260421T153238
CREATED:20251219T002649Z
LAST-MODIFIED:20251219T181508Z
UID:21062-1768478400-1768482000@www.wihd.org
SUMMARY:Self-Direction: An Overview
DESCRIPTION:Learn about OPWDD’s self-direction services which allows for more choice in OPWDD-funded supports and services. The individual must be eligible for OPWDD services and participating in Care Management services through a Care Coordination Organization (CCO) to be approved for self-direction. Therefore\, it is recommended that you first attend a workshop on OPWDD eligibility if the person with the disability does not already have it. \nZoom Registration: Click Here
URL:https://www.wihd.org/event/self-direction-an-overview-7/
LOCATION:Zoom
CATEGORIES:Regional,Virtual Stream,WIHD
END:VEVENT
BEGIN:VEVENT
DTSTART;TZID=America/New_York:20260115T183000
DTEND;TZID=America/New_York:20260115T193000
DTSTAMP:20260421T153238
CREATED:20251212T164243Z
LAST-MODIFIED:20251212T164243Z
UID:21040-1768501800-1768505400@www.wihd.org
SUMMARY:Explicit Vocabulary Instruction for Parents
DESCRIPTION:Participants will be able to explain why vocabulary instruction is important for elementary-aged children and identify practical ways to incorporate both explicit instruction and vocabulary building activities at home. \nZoom Registration: Click Here 
URL:https://www.wihd.org/event/explicit-vocabulary-instruction-for-parents-10/
LOCATION:Zoom
CATEGORIES:Regional,Virtual Stream,WIHD
END:VEVENT
END:VCALENDAR