BEGIN:VCALENDAR
VERSION:2.0
PRODID:-//Westchester Institute for Human Development - ECPv6.0.10//NONSGML v1.0//EN
CALSCALE:GREGORIAN
METHOD:PUBLISH
X-ORIGINAL-URL:https://www.wihd.org
X-WR-CALDESC:Events for Westchester Institute for Human Development
REFRESH-INTERVAL;VALUE=DURATION:PT1H
X-Robots-Tag:noindex
X-PUBLISHED-TTL:PT1H
BEGIN:VTIMEZONE
TZID:America/New_York
BEGIN:DAYLIGHT
TZOFFSETFROM:-0500
TZOFFSETTO:-0400
TZNAME:EDT
DTSTART:20250309T070000
END:DAYLIGHT
BEGIN:STANDARD
TZOFFSETFROM:-0400
TZOFFSETTO:-0500
TZNAME:EST
DTSTART:20251102T060000
END:STANDARD
END:VTIMEZONE
BEGIN:VEVENT
DTSTART;TZID=America/New_York:20251216T120000
DTEND;TZID=America/New_York:20251216T133000
DTSTAMP:20260421T171236
CREATED:20250918T202140Z
LAST-MODIFIED:20250918T234827Z
UID:20785-1765886400-1765891800@www.wihd.org
SUMMARY:Positive Solutions for Families (Series)
DESCRIPTION:Positive Solutions for Families \nJoin us for a four-session workshop series for parents\, families\, and caregivers of children ages 2-5. \nThese sessions will provide strategies to support your children’s social and emotional development and address challenging behaviors in a positive\, effective way. \nWorkshop details: Four sessions*\, once a month on a Tuesday from 12-1:30pm \nDates: \nNov 18 Making the Connection & Keeping it Positive \nDec 16 Behavior Has Meaning & the Power of Routine \nJan 13 Teach Me What to Do & Responding with Purpose \nFeb 10 Putting It All Together with a Plan \n*Attending all four sessions is encouraged but optional. Resources and tools will be provided before each session. \nZoom Registration: Click Here
URL:https://www.wihd.org/event/positive-solutions-for-families-series-6/
LOCATION:Zoom
CATEGORIES:Regional,Virtual Stream,WIHD
END:VEVENT
BEGIN:VEVENT
DTSTART;TZID=America/New_York:20251216T180000
DTEND;TZID=America/New_York:20251216T193000
DTSTAMP:20260421T171236
CREATED:20251119T182259Z
LAST-MODIFIED:20251119T182259Z
UID:20970-1765908000-1765913400@www.wihd.org
SUMMARY:Future Planning Series: Supporting Individuals with Disabilities Living in The Community (Workshop 3)
DESCRIPTION:The overall topic of this session is centered around supporting individuals living in the community. Hear from three experts working in the field about ways to support individuals and lessen the day-to-day administrative burden on parents and guardians. \nPresenters: \n-James M. Sullivan\, President & Managing Director at Ikorcare – www.ikorcare.com \n-Allison Kleinman\, Founder and CEO at Future Centered Care – www.Futurecenteredcare.com \n-Susan Wallach\, MsEd.\, Director Point Community at WJCS – www.wjcs.com \nZoom Registration: Click Here
URL:https://www.wihd.org/event/future-planning-series-supporting-individuals-with-disabilities-living-in-the-community-workshop-3/
LOCATION:Zoom
CATEGORIES:Regional,Virtual Stream,WIHD
END:VEVENT
END:VCALENDAR