BEGIN:VCALENDAR
VERSION:2.0
PRODID:-//Westchester Institute for Human Development - ECPv6.0.10//NONSGML v1.0//EN
CALSCALE:GREGORIAN
METHOD:PUBLISH
X-ORIGINAL-URL:https://www.wihd.org
X-WR-CALDESC:Events for Westchester Institute for Human Development
REFRESH-INTERVAL;VALUE=DURATION:PT1H
X-Robots-Tag:noindex
X-PUBLISHED-TTL:PT1H
BEGIN:VTIMEZONE
TZID:America/New_York
BEGIN:DAYLIGHT
TZOFFSETFROM:-0500
TZOFFSETTO:-0400
TZNAME:EDT
DTSTART:20250309T070000
END:DAYLIGHT
BEGIN:STANDARD
TZOFFSETFROM:-0400
TZOFFSETTO:-0500
TZNAME:EST
DTSTART:20251102T060000
END:STANDARD
END:VTIMEZONE
BEGIN:VEVENT
DTSTART;TZID=America/New_York:20251202T120000
DTEND;TZID=America/New_York:20251202T133000
DTSTAMP:20260421T171242
CREATED:20251027T152721Z
LAST-MODIFIED:20251027T152721Z
UID:20938-1764676800-1764682200@www.wihd.org
SUMMARY:Understanding Least Restrictive Environment (LRE) For Families and Caregivers
DESCRIPTION:Least restrictive environment (LRE) means kids who get special education should be in the same classrooms as other kids as much as possible. LRE isn’t a place — it’s a principle that guides a child’s education program. The LRE for each child may look different because kids are unique. Come to this training to receive an overview of how best to ensure your child is receiving the necessary resources in the LRE. \nZoom Registration: Click Here
URL:https://www.wihd.org/event/understanding-least-restrictive-environment-lre-for-families-and-caregivers/
LOCATION:Zoom
CATEGORIES:Regional,Virtual Stream,WIHD
END:VEVENT
BEGIN:VEVENT
DTSTART;TZID=America/New_York:20251202T180000
DTEND;TZID=America/New_York:20251202T193000
DTSTAMP:20260421T171242
CREATED:20251108T002045Z
LAST-MODIFIED:20251108T002045Z
UID:20959-1764698400-1764703800@www.wihd.org
SUMMARY:Developing Life-skills Workshop 2: Developing Life-skills
DESCRIPTION:Life-skills\, or daily living skills\, are abilities that our loved ones with intellectual and developmental disabilities need to achieve their highest level of independence. These include skills related to managing money\, personal hygiene\, medication management\, taking care of living spaces\, safety\, laundry\, cooking\, transportation\, and shopping. Please join us for a workshop for caregivers and self-advocates about supporting life-skills learning for children\, teens and young adults with intellectual or developmental disabilities. \nWorkshop 2 will cover the process of teaching and reinforcing life-skills. We ask that you come to the workshop with at least one idea for a life-skill that you and your loved one might want to work on. \nZoom Registration: Click here
URL:https://www.wihd.org/event/developing-life-skills-workshop-2-developing-life-skills/
LOCATION:Zoom
CATEGORIES:Regional,Virtual Stream,WIHD
END:VEVENT
END:VCALENDAR