BEGIN:VCALENDAR
VERSION:2.0
PRODID:-//Westchester Institute for Human Development - ECPv6.0.10//NONSGML v1.0//EN
CALSCALE:GREGORIAN
METHOD:PUBLISH
X-ORIGINAL-URL:https://www.wihd.org
X-WR-CALDESC:Events for Westchester Institute for Human Development
REFRESH-INTERVAL;VALUE=DURATION:PT1H
X-Robots-Tag:noindex
X-PUBLISHED-TTL:PT1H
BEGIN:VTIMEZONE
TZID:America/New_York
BEGIN:DAYLIGHT
TZOFFSETFROM:-0500
TZOFFSETTO:-0400
TZNAME:EDT
DTSTART:20250309T070000
END:DAYLIGHT
BEGIN:STANDARD
TZOFFSETFROM:-0400
TZOFFSETTO:-0500
TZNAME:EST
DTSTART:20251102T060000
END:STANDARD
END:VTIMEZONE
BEGIN:VEVENT
DTSTART;TZID=America/New_York:20251030T180000
DTEND;TZID=America/New_York:20251030T193000
DTSTAMP:20260421T185020
CREATED:20250914T175909Z
LAST-MODIFIED:20250914T175909Z
UID:20767-1761847200-1761852600@www.wihd.org
SUMMARY:Diploma and Credential Options for Students with Disabilities
DESCRIPTION:Participants will learn about self-determination skills and its relation to students determining an individualized pathway to graduation from multiple options. Credit and diploma requirements\, the appeal eligibility criteria for all students\, and safety-net options for students with disabilities will be reviewed. Learn how earning a Career Development and Occupational Studies (CDOS) Commencement Credential is beneficial in a number of ways and understand the guidelines for the Skills and Achievement Commencement Credential which is awarded to students participating in the New York State Alternate Assessment (NYSAA) testing program. \nZoom Registration: Click Here
URL:https://www.wihd.org/event/diploma-and-credential-options-for-students-with-disabilities-16/
LOCATION:Zoom
CATEGORIES:Regional,Virtual Stream,WIHD
END:VEVENT
END:VCALENDAR