BEGIN:VCALENDAR
VERSION:2.0
PRODID:-//Westchester Institute for Human Development - ECPv6.0.10//NONSGML v1.0//EN
CALSCALE:GREGORIAN
METHOD:PUBLISH
X-WR-CALNAME:Westchester Institute for Human Development
X-ORIGINAL-URL:https://www.wihd.org
X-WR-CALDESC:Events for Westchester Institute for Human Development
REFRESH-INTERVAL;VALUE=DURATION:PT1H
X-Robots-Tag:noindex
X-PUBLISHED-TTL:PT1H
BEGIN:VTIMEZONE
TZID:America/New_York
BEGIN:DAYLIGHT
TZOFFSETFROM:-0500
TZOFFSETTO:-0400
TZNAME:EDT
DTSTART:20250309T070000
END:DAYLIGHT
BEGIN:STANDARD
TZOFFSETFROM:-0400
TZOFFSETTO:-0500
TZNAME:EST
DTSTART:20251102T060000
END:STANDARD
END:VTIMEZONE
BEGIN:VEVENT
DTSTART;TZID=America/New_York:20251022T120000
DTEND;TZID=America/New_York:20251022T130000
DTSTAMP:20260421T202146
CREATED:20251003T005213Z
LAST-MODIFIED:20251003T005213Z
UID:20844-1761134400-1761138000@www.wihd.org
SUMMARY:Supported Decision-Making (SDM)\, Guardianship\, and other Alternatives
DESCRIPTION:In this workshop we will present instruments and methods used to support loved ones with disabilities in making choices as they approach the age of adulthood. \nSupported Decision-Making (SDM)\, Guardianship\, and other Alternatives \nMany parents and caregivers have questions about how best their loved one with intellectual and developmental disabilities may be supported in making decisions as an adult. What are the concerns around guardianship? What about Supported Decision Making? How do advance directives such as health care proxies and durable power of attorney factor in? This workshop should be taken before the Guardianship and Digging into Supported Decision-Making workshops. If you have already taken this WIHD zoom workshop\, please register instead for the Digging in to Supported Decision-Making workshop. \nZoom Registration: Click Here
URL:https://www.wihd.org/event/supported-decision-making-sdm-guardianship-and-other-alternatives/
LOCATION:Zoom
CATEGORIES:Regional,Virtual Stream,WIHD
END:VEVENT
BEGIN:VEVENT
DTSTART;TZID=America/New_York:20251022T180000
DTEND;TZID=America/New_York:20251022T193000
DTSTAMP:20260421T202146
CREATED:20250912T193254Z
LAST-MODIFIED:20250912T193358Z
UID:20759-1761156000-1761161400@www.wihd.org
SUMMARY:Future Planning Series       Workshop 1 - Starting with the End in Sight: A Panel Discussion
DESCRIPTION:At the end of the workshop series\, the caregiver will have a blueprint that can be used for the transfer of knowledge to new caregivers. This blueprint includes the systems\, people and processes needed to successfully support their loved one so that they live life to the fullest. Individual workshops will cover people and staffing\, financial planning\, housing\, and estate planning. All sessions will be from 6:00pm-7:30pm. \nWorkshop 1: We kick off the series with a frank discussion with families who are going through the future planning process. \nZoom Registration: Click Here
URL:https://www.wihd.org/event/future-planning-series-workshop-1-starting-with-the-end-in-sight-a-panel-discussion/
LOCATION:Zoom
CATEGORIES:Regional,Virtual Stream,WIHD
END:VEVENT
END:VCALENDAR