BEGIN:VCALENDAR
VERSION:2.0
PRODID:-//Westchester Institute for Human Development - ECPv6.0.10//NONSGML v1.0//EN
CALSCALE:GREGORIAN
METHOD:PUBLISH
X-ORIGINAL-URL:https://www.wihd.org
X-WR-CALDESC:Events for Westchester Institute for Human Development
REFRESH-INTERVAL;VALUE=DURATION:PT1H
X-Robots-Tag:noindex
X-PUBLISHED-TTL:PT1H
BEGIN:VTIMEZONE
TZID:America/New_York
BEGIN:DAYLIGHT
TZOFFSETFROM:-0500
TZOFFSETTO:-0400
TZNAME:EDT
DTSTART:20250309T070000
END:DAYLIGHT
BEGIN:STANDARD
TZOFFSETFROM:-0400
TZOFFSETTO:-0500
TZNAME:EST
DTSTART:20251102T060000
END:STANDARD
END:VTIMEZONE
BEGIN:VEVENT
DTSTART;TZID=America/New_York:20251016T120000
DTEND;TZID=America/New_York:20251016T131500
DTSTAMP:20260421T202453
CREATED:20250922T145447Z
LAST-MODIFIED:20250922T170319Z
UID:20800-1760616000-1760620500@www.wihd.org
SUMMARY:PORTRAIT OF A GRADUATE - NY Inspires: A New Roadmap Towards Success with One Diploma for All
DESCRIPTION:Portrait of a Graduate \nNY Inspires: A New Roadmap Towards Success with One Diploma for All \nThe recently adopted recommendations connected to the New York Inspires plan will provide changes over the next few years on graduation requirements. NY Inspires aligns to the Blue Ribbon Commission on Graduation Measures. The plan covers four pivotal areas: A statewide portrait of a graduate\, shifts to credit requirements and structures\, one diploma for all students\, and sunsetting of assessment requirements for graduation. During this session attendees will review current graduation requirements\, understand the context for the massive shifts of the New York Inspires plan\, and discuss current elements and timelines for the four pivotal areas mentioned above. \nClick Here for Flyer and Registration
URL:https://www.wihd.org/event/portrait-of-a-graduate/
LOCATION:Zoom
CATEGORIES:Regional,Virtual Stream,WIHD
END:VEVENT
END:VCALENDAR