BEGIN:VCALENDAR
VERSION:2.0
PRODID:-//Westchester Institute for Human Development - ECPv6.0.10//NONSGML v1.0//EN
CALSCALE:GREGORIAN
METHOD:PUBLISH
X-WR-CALNAME:Westchester Institute for Human Development
X-ORIGINAL-URL:https://www.wihd.org
X-WR-CALDESC:Events for Westchester Institute for Human Development
REFRESH-INTERVAL;VALUE=DURATION:PT1H
X-Robots-Tag:noindex
X-PUBLISHED-TTL:PT1H
BEGIN:VTIMEZONE
TZID:America/New_York
BEGIN:DAYLIGHT
TZOFFSETFROM:-0500
TZOFFSETTO:-0400
TZNAME:EDT
DTSTART:20250309T070000
END:DAYLIGHT
BEGIN:STANDARD
TZOFFSETFROM:-0400
TZOFFSETTO:-0500
TZNAME:EST
DTSTART:20251102T060000
END:STANDARD
END:VTIMEZONE
BEGIN:VEVENT
DTSTART;TZID=America/New_York:20251015T110000
DTEND;TZID=America/New_York:20251015T123000
DTSTAMP:20260421T202205
CREATED:20250926T195920Z
LAST-MODIFIED:20250926T195920Z
UID:20813-1760526000-1760531400@www.wihd.org
SUMMARY:What Is an Individualized Education Program (IEP) for Families of Preschool Students
DESCRIPTION:This session will provide families with an overview of the process for developing an Individualized Education Program (IEP) at the preschool level. Participants will learn about the key components of a preschool IEP and how to effectively share important information with the Committee on Preschool Special Education (CPSE) regarding their child’s strengths\, challenges and developmental progress. \nZoom Registration: Click Here
URL:https://www.wihd.org/event/what-is-an-individualized-education-program-iep-for-families-of-preschool-students-5/
LOCATION:Zoom
CATEGORIES:Regional,Virtual Stream,WIHD
END:VEVENT
BEGIN:VEVENT
DTSTART;TZID=America/New_York:20251015T180000
DTEND;TZID=America/New_York:20251015T190000
DTSTAMP:20260421T202205
CREATED:20250916T144832Z
LAST-MODIFIED:20250916T144832Z
UID:20774-1760551200-1760554800@www.wihd.org
SUMMARY:Join Us for a Conversation with Willow Baer\, Commissioner of OPWDD
DESCRIPTION:Join us on October 15 at 6:00pm via Zoom! \nClick Here for Flyer and Zoom Registration
URL:https://www.wihd.org/event/join-us-for-a-conversation-with-willow-baer-commissioner-of-opwdd/
LOCATION:Zoom
CATEGORIES:Regional,Virtual Stream,WIHD
END:VEVENT
END:VCALENDAR