BEGIN:VCALENDAR
VERSION:2.0
PRODID:-//Westchester Institute for Human Development - ECPv6.0.10//NONSGML v1.0//EN
CALSCALE:GREGORIAN
METHOD:PUBLISH
X-ORIGINAL-URL:https://www.wihd.org
X-WR-CALDESC:Events for Westchester Institute for Human Development
REFRESH-INTERVAL;VALUE=DURATION:PT1H
X-Robots-Tag:noindex
X-PUBLISHED-TTL:PT1H
BEGIN:VTIMEZONE
TZID:America/New_York
BEGIN:DAYLIGHT
TZOFFSETFROM:-0500
TZOFFSETTO:-0400
TZNAME:EDT
DTSTART:20250309T070000
END:DAYLIGHT
BEGIN:STANDARD
TZOFFSETFROM:-0400
TZOFFSETTO:-0500
TZNAME:EST
DTSTART:20251102T060000
END:STANDARD
END:VTIMEZONE
BEGIN:VEVENT
DTSTART;TZID=America/New_York:20251001T120000
DTEND;TZID=America/New_York:20251001T130000
DTSTAMP:20260421T201438
CREATED:20250410T160756Z
LAST-MODIFIED:20250410T160756Z
UID:20112-1759320000-1759323600@www.wihd.org
SUMMARY:Pre Employment Transition Services (Pre ETS)
DESCRIPTION:COME JOIN US OVER YOUR LUNCH HOUR TO LEARN ABOUT PRE EMPLOYMENT TRANSITION SERVICES OFFERED THROUGH ACCES VR! \nClick Here for Flyer and Registration \n 
URL:https://www.wihd.org/event/pre-employment-transition-services-pre-ets-2/
LOCATION:Zoom
CATEGORIES:Regional,Virtual Stream,WIHD
END:VEVENT
END:VCALENDAR