BEGIN:VCALENDAR
VERSION:2.0
PRODID:-//Westchester Institute for Human Development - ECPv6.0.10//NONSGML v1.0//EN
CALSCALE:GREGORIAN
METHOD:PUBLISH
X-ORIGINAL-URL:https://www.wihd.org
X-WR-CALDESC:Events for Westchester Institute for Human Development
REFRESH-INTERVAL;VALUE=DURATION:PT1H
X-Robots-Tag:noindex
X-PUBLISHED-TTL:PT1H
BEGIN:VTIMEZONE
TZID:America/New_York
BEGIN:DAYLIGHT
TZOFFSETFROM:-0500
TZOFFSETTO:-0400
TZNAME:EDT
DTSTART:20250309T070000
END:DAYLIGHT
BEGIN:STANDARD
TZOFFSETFROM:-0400
TZOFFSETTO:-0500
TZNAME:EST
DTSTART:20251102T060000
END:STANDARD
END:VTIMEZONE
BEGIN:VEVENT
DTSTART;TZID=America/New_York:20250917T123000
DTEND;TZID=America/New_York:20250917T133000
DTSTAMP:20260421T215002
CREATED:20250828T201402Z
LAST-MODIFIED:20250908T142850Z
UID:20705-1758112200-1758115800@www.wihd.org
SUMMARY:Monthly Decision Making Series Workshop #3: Guardianship Workshop
DESCRIPTION:Join us for our three-workshop series where we will present instruments and methods used to support loved ones with disabilities in making choices as they approach the age of adulthood. \n**Please note that we will not be offering Workshop #2 this month. It will resume shortly.** \nWorkshop #3: Guardianship Workshop \nThis workshop is intended for individuals who have already attended our monthly Supported Decision Making\, Guardianship\, and other Alternatives workshop\, and have determined that guardianship is the most appropriate alternative. Since guardianship is considered the most restrictive form of decision support\, it is recommended that you also attend the Digging in to Supported Decision-Making workshop before signing up for this one. We will review the process of putting together a petition for guardianship and the documentation requirements. \nZoom Registration: Click Here
URL:https://www.wihd.org/event/monthly-decision-making-series-workshop-3-guardianship-workshop-21/
LOCATION:Zoom
CATEGORIES:Regional,Virtual Stream,WIHD
END:VEVENT
BEGIN:VEVENT
DTSTART;TZID=America/New_York:20250917T180000
DTEND;TZID=America/New_York:20250917T190000
DTSTAMP:20260421T215002
CREATED:20250825T153844Z
LAST-MODIFIED:20250825T153844Z
UID:20687-1758132000-1758135600@www.wihd.org
SUMMARY:Hear Our Voices! Disability Conversations Group
DESCRIPTION:Join our team each month for a conversation on different topics about living your best life with a disability. \nClick Here for Zoom Registration
URL:https://www.wihd.org/event/hear-our-voices-disability-conversations-group/
LOCATION:Zoom
CATEGORIES:Regional,Virtual Stream,WIHD
END:VEVENT
END:VCALENDAR