BEGIN:VCALENDAR
VERSION:2.0
PRODID:-//Westchester Institute for Human Development - ECPv6.0.10//NONSGML v1.0//EN
CALSCALE:GREGORIAN
METHOD:PUBLISH
X-WR-CALNAME:Westchester Institute for Human Development
X-ORIGINAL-URL:https://www.wihd.org
X-WR-CALDESC:Events for Westchester Institute for Human Development
REFRESH-INTERVAL;VALUE=DURATION:PT1H
X-Robots-Tag:noindex
X-PUBLISHED-TTL:PT1H
BEGIN:VTIMEZONE
TZID:America/New_York
BEGIN:DAYLIGHT
TZOFFSETFROM:-0500
TZOFFSETTO:-0400
TZNAME:EDT
DTSTART:20240310T070000
END:DAYLIGHT
BEGIN:STANDARD
TZOFFSETFROM:-0400
TZOFFSETTO:-0500
TZNAME:EST
DTSTART:20241103T060000
END:STANDARD
END:VTIMEZONE
BEGIN:VEVENT
DTSTART;TZID=America/New_York:20241122T100000
DTEND;TZID=America/New_York:20241122T113000
DTSTAMP:20260422T153902
CREATED:20241014T130713Z
LAST-MODIFIED:20241014T130713Z
UID:19414-1732269600-1732275000@www.wihd.org
SUMMARY:New York State Alternate Assessment (NYSAA): Essential Information for Families of Students with Disabilities
DESCRIPTION:This training is to educate families on the New York State Alternate Assessment (NYSAA) which is part of the NYS testing program that measures attainment of the State’s learning standards for students with the most severe disabilities in grades 3-8 and high school. Participants will learn about all State assessment options\, what the NYSAA test entails\, the eligibility and decision-making process\, graduation/student exit options and how it will affect a student’s post-secondary planning. \nZoom Link: Click Here
URL:https://www.wihd.org/event/new-york-state-alternate-assessment-nysaa-essential-information-for-families-of-students-with-disabilities-7/
LOCATION:Zoom
CATEGORIES:Regional,Virtual Stream,WIHD
END:VEVENT
END:VCALENDAR