BEGIN:VCALENDAR
VERSION:2.0
PRODID:-//Westchester Institute for Human Development - ECPv6.0.10//NONSGML v1.0//EN
CALSCALE:GREGORIAN
METHOD:PUBLISH
X-ORIGINAL-URL:https://www.wihd.org
X-WR-CALDESC:Events for Westchester Institute for Human Development
REFRESH-INTERVAL;VALUE=DURATION:PT1H
X-Robots-Tag:noindex
X-PUBLISHED-TTL:PT1H
BEGIN:VTIMEZONE
TZID:America/New_York
BEGIN:DAYLIGHT
TZOFFSETFROM:-0500
TZOFFSETTO:-0400
TZNAME:EDT
DTSTART:20240310T070000
END:DAYLIGHT
BEGIN:STANDARD
TZOFFSETFROM:-0400
TZOFFSETTO:-0500
TZNAME:EST
DTSTART:20241103T060000
END:STANDARD
END:VTIMEZONE
BEGIN:VEVENT
DTSTART;TZID=America/New_York:20241120T120000
DTEND;TZID=America/New_York:20241120T130000
DTSTAMP:20260422T171634
CREATED:20240906T114417Z
LAST-MODIFIED:20240906T114417Z
UID:19291-1732104000-1732107600@www.wihd.org
SUMMARY:Monthly Decision Making Series Workshop #2: Digging in to Supported Decision-Making
DESCRIPTION:Join us for our three-workshop series where we will present instruments and methods used to support loved ones with disabilities in making choices as they approach the age of adulthood. \nWorkshop #2: Digging in to Supported Decision-Making \nThis workshop is intended for individuals who have already attended our monthly Supported Decision Making\, Guardianship\, and other Alternatives workshop\, and want to know more about SDM. We will review Article 82\, the NY State supported decision making law\, and will answer SDM-specific questions. \nZoom Registration Link: Click Here
URL:https://www.wihd.org/event/monthly-decision-making-series-workshop-2-digging-in-to-supported-decision-making-12/
LOCATION:Zoom
CATEGORIES:Regional,Virtual Stream,WIHD
END:VEVENT
BEGIN:VEVENT
DTSTART;TZID=America/New_York:20241120T180000
DTEND;TZID=America/New_York:20241120T193000
DTSTAMP:20260422T171634
CREATED:20240919T132713Z
LAST-MODIFIED:20241017T163041Z
UID:19317-1732125600-1732131000@www.wihd.org
SUMMARY:New York State Alternate Assessment (NYSAA): Essential Information for Families of Students with Disabilities
DESCRIPTION:This training is to educate families on the New York State Alternate Assessment (NYSAA) which is part of the NYS testing program that measures attainment of the State’s learning standards for students with the most severe disabilities in grades 3-8 and high school. Participants will learn about all State assessment options\, what the NYSAA test entails\, the eligibility and decision-making process\, graduation/student exit options and how it will affect a student’s post-secondary planning. \nZoom Link (see note below): Click Here to Join \n**Please note that this event will require you to enter the Zoom Meeting ID and Passcode as follows: \nZoom Meeting ID: 946 8129 7890 \nZoom Passcode: 671150
URL:https://www.wihd.org/event/new-york-state-alternate-assessment-nysaa-essential-information-for-families-of-students-with-disabilities-6/
LOCATION:Zoom
CATEGORIES:Regional,Virtual Stream,WIHD
END:VEVENT
END:VCALENDAR