BEGIN:VCALENDAR
VERSION:2.0
PRODID:-//Westchester Institute for Human Development - ECPv6.0.10//NONSGML v1.0//EN
CALSCALE:GREGORIAN
METHOD:PUBLISH
X-ORIGINAL-URL:https://www.wihd.org
X-WR-CALDESC:Events for Westchester Institute for Human Development
REFRESH-INTERVAL;VALUE=DURATION:PT1H
X-Robots-Tag:noindex
X-PUBLISHED-TTL:PT1H
BEGIN:VTIMEZONE
TZID:America/New_York
BEGIN:DAYLIGHT
TZOFFSETFROM:-0500
TZOFFSETTO:-0400
TZNAME:EDT
DTSTART:20240310T070000
END:DAYLIGHT
BEGIN:STANDARD
TZOFFSETFROM:-0400
TZOFFSETTO:-0500
TZNAME:EST
DTSTART:20241103T060000
END:STANDARD
END:VTIMEZONE
BEGIN:VEVENT
DTSTART;TZID=America/New_York:20241119T120000
DTEND;TZID=America/New_York:20241119T130000
DTSTAMP:20260422T171742
CREATED:20240906T113920Z
LAST-MODIFIED:20240906T113920Z
UID:19289-1732017600-1732021200@www.wihd.org
SUMMARY:Monthly Decision Making Series Workshop #1: Supported Decision-Making (SDM)\, Guardianship\, and other Alternatives
DESCRIPTION:Join us for our three-workshop series where we will present instruments and methods used to support loved ones with disabilities in making choices as they approach the age of adulthood. \nWorkshop #1: Supported Decision-Making (SDM)\, Guardianship\, and other Alternatives \nMany parents and caregivers have questions about how best their loved one with intellectual and developmental disabilities may be supported in making decisions as an adult. What are the concerns around guardianship? What about Supported Decision Making? How do advance directives such as health care proxies and durable power of attorney factor in? This workshop should be taken before the Guardianship and Digging into Supported Decision-Making workshops. If you have already taken this WIHD zoom workshop\, please register instead for the Digging in to Supported Decision-Making workshop. \nZoom Registration Link: Click Here
URL:https://www.wihd.org/event/monthly-decision-making-series-workshop-1-supported-decision-making-sdm-guardianship-and-other-alternatives-12/
LOCATION:Zoom
CATEGORIES:Regional,Virtual Stream,WIHD
END:VEVENT
BEGIN:VEVENT
DTSTART;TZID=America/New_York:20241119T120000
DTEND;TZID=America/New_York:20241119T140000
DTSTAMP:20260422T171742
CREATED:20240927T112742Z
LAST-MODIFIED:20241002T142341Z
UID:19335-1732017600-1732024800@www.wihd.org
SUMMARY:Positive Behavior Solutions for Families (series)
DESCRIPTION:Join us for a four-session workshop series for parents\, families\, and caregivers of children ages 2-5. These sessions will provide strategies to support your children’s social and emotional development and address challenging behaviors in a positive\, effective way. \nWorkshop details:\nFour sessions*\, once a month on a Tuesday from 12-2pm\nOct 15 Making the Connection & Keeping it Positive\nNov 19 Behavior Has Meaning & the Power of Routine\nDec 17 Teach Me What to Do & Responding with Purpose\nJan 21 Putting It All Together with a Plan \n*Attending all four sessions is encouraged but optional. Resources and tools will be provided before each session. \nZoom Registration Link: Click Here
URL:https://www.wihd.org/event/positive-behavior-solutions-for-families-series-2/
LOCATION:Zoom
CATEGORIES:Regional,Virtual Stream,WIHD
END:VEVENT
BEGIN:VEVENT
DTSTART;TZID=America/New_York:20241119T160000
DTEND;TZID=America/New_York:20241119T190000
DTSTAMP:20260422T171742
CREATED:20240928T150824Z
LAST-MODIFIED:20240928T151046Z
UID:19352-1732032000-1732042800@www.wihd.org
SUMMARY:Resource and Transition Fair
DESCRIPTION:– Explore Putnam County resources for education\, recreation\, training and employment\, advocacy\, and much more!\n– Meet representatives from a variety of agencies and service providers.\n– Join break out sessions for detailed information on diverse topics. \nPutnam Transition Fair: Click Here for Flyer and Registration
URL:https://www.wihd.org/event/resource-and-transition-fair-2/
LOCATION:Brewster High School
CATEGORIES:Regional,Virtual Stream,WIHD
END:VEVENT
END:VCALENDAR