BEGIN:VCALENDAR
VERSION:2.0
PRODID:-//Westchester Institute for Human Development - ECPv6.0.10//NONSGML v1.0//EN
CALSCALE:GREGORIAN
METHOD:PUBLISH
X-WR-CALNAME:Westchester Institute for Human Development
X-ORIGINAL-URL:https://www.wihd.org
X-WR-CALDESC:Events for Westchester Institute for Human Development
REFRESH-INTERVAL;VALUE=DURATION:PT1H
X-Robots-Tag:noindex
X-PUBLISHED-TTL:PT1H
BEGIN:VTIMEZONE
TZID:America/New_York
BEGIN:DAYLIGHT
TZOFFSETFROM:-0500
TZOFFSETTO:-0400
TZNAME:EDT
DTSTART:20240310T070000
END:DAYLIGHT
BEGIN:STANDARD
TZOFFSETFROM:-0400
TZOFFSETTO:-0500
TZNAME:EST
DTSTART:20241103T060000
END:STANDARD
END:VTIMEZONE
BEGIN:VEVENT
DTSTART;TZID=America/New_York:20241112T180000
DTEND;TZID=America/New_York:20241112T190000
DTSTAMP:20260422T153905
CREATED:20241030T173337Z
LAST-MODIFIED:20241030T173337Z
UID:19527-1731434400-1731438000@www.wihd.org
SUMMARY:Relationship Skills Group: Self-Advocates at the Community Support Network
DESCRIPTION:Monthly Relationship Skills Group: Self-Advocates at the Community Support Network \nClick Here for Flyer and Registration
URL:https://www.wihd.org/event/relationship-skills-group-self-advocates-at-the-community-support-network/
LOCATION:Zoom
CATEGORIES:Regional,Virtual Stream,WIHD
END:VEVENT
BEGIN:VEVENT
DTSTART;TZID=America/New_York:20241112T180000
DTEND;TZID=America/New_York:20241112T193000
DTSTAMP:20260422T153905
CREATED:20241012T234801Z
LAST-MODIFIED:20241025T212912Z
UID:19412-1731434400-1731439800@www.wihd.org
SUMMARY:Future Planning Series: How Do We Pass The Torch?  Transition Planning in Preparation for Aging Series  Workshop 2 - Financial Planning
DESCRIPTION:This 6- workshop series aims to provide caregivers with the directions for creating a transition plan for who next will be responsible for supporting their loved one. At the end of the workshop series\, the caregiver will have the knowledge to create a caregiver transition plan\, which will include the systems\, people and processes needed to successfully support their loved one so that they live life to the fullest.  \nWorkshop 2: Financial Planning \nJames Traylor\, President of Rivent Partners & Rivent Partners Disability Planning\, will present on financial strategies for families of individuals with special needs. In this session\, James will cover the key issues to be considered when planning for financial security over the lifetimes of both caregiver and loved one with a disability.  \nZoom Registration Link: Click Here
URL:https://www.wihd.org/event/future-planning-series-how-do-we-pass-the-torch-transition-planning-in-preparation-for-aging-series-workshop-2-financial-planning-2/
LOCATION:Zoom
CATEGORIES:Regional,Virtual Stream,WIHD
END:VEVENT
BEGIN:VEVENT
DTSTART;TZID=America/New_York:20241112T183000
DTEND;TZID=America/New_York:20241112T193000
DTSTAMP:20260422T153905
CREATED:20241101T181738Z
LAST-MODIFIED:20241101T182412Z
UID:19546-1731436200-1731439800@www.wihd.org
SUMMARY:Recreational Fair for Students with OPWDD Eligibility
DESCRIPTION:Please join the Scarsdale and Pelham Public School Districts in Conjunction with Tuckahoe\, Eastchester\, and Edgemont Schools for The 2024 Recreational Fair! \nClick Here for Flyer
URL:https://www.wihd.org/event/recreational-fair-for-students-with-opwdd-eligibility/
LOCATION:Scarsdale High School
CATEGORIES:Regional,Virtual Stream,WIHD
END:VEVENT
END:VCALENDAR