BEGIN:VCALENDAR
VERSION:2.0
PRODID:-//Westchester Institute for Human Development - ECPv6.0.10//NONSGML v1.0//EN
CALSCALE:GREGORIAN
METHOD:PUBLISH
X-ORIGINAL-URL:https://www.wihd.org
X-WR-CALDESC:Events for Westchester Institute for Human Development
REFRESH-INTERVAL;VALUE=DURATION:PT1H
X-Robots-Tag:noindex
X-PUBLISHED-TTL:PT1H
BEGIN:VTIMEZONE
TZID:America/New_York
BEGIN:DAYLIGHT
TZOFFSETFROM:-0500
TZOFFSETTO:-0400
TZNAME:EDT
DTSTART:20240310T070000
END:DAYLIGHT
BEGIN:STANDARD
TZOFFSETFROM:-0400
TZOFFSETTO:-0500
TZNAME:EST
DTSTART:20241103T060000
END:STANDARD
END:VTIMEZONE
BEGIN:VEVENT
DTSTART;TZID=America/New_York:20241110T133000
DTEND;TZID=America/New_York:20241110T164500
DTSTAMP:20260422T154239
CREATED:20241025T170934Z
LAST-MODIFIED:20241025T170934Z
UID:19512-1731245400-1731257100@www.wihd.org
SUMMARY:The Especially Everyone Experience
DESCRIPTION:While live music holds the potential to bring great happiness to many individuals\, those with sensory challenges may find it too overstimulating. In this inclusive concert\, the Especially Everyone Ensemble leads a sensory friendly show featuring upbeat\, positive tunes that ensures those with sensitivities can actively participate. Special accommodations including noise-canceling headphones\, modified lights\, and a sensory break area ensure a positive and fulfilling concert experience. \nFor support staff tickets\, use promo code EESUPPORT24 for $10 off your ticket. We will contact you for your individual’s information. \nFlyer for the event: Especially Everyone at the Shames JCC \nSpecial thanks to our sponsors: Breakthrough Fit Co\, New York State Council of the Arts (NYSCA)\, Relationspot\, Fit 4 All\, Brick It Again\, Future Centered Care\, Westchester Institute for Human Development\, Fitzgerald & Sadove\, The Nicholas Center\, and Swim Angelfish \nEspecially Everyone at the Shames JCC is made possible by the New York State Council on the Arts with the support of the Office of the Governor and the New York State Legislature. \nBy entering this event at the Shames JCC\, you are entering an area where photography\, audio and video recording may occur. View the Shames JCC’s public event photo policy at shamesjcc.org/photopolicy
URL:https://www.wihd.org/event/the-especially-everyone-experience/
LOCATION:Shames JCC on the Hudson\, 371 South Broadway\, Tarrytown\, NY\, 10533\, United States
CATEGORIES:WIHD
END:VEVENT
END:VCALENDAR