BEGIN:VCALENDAR
VERSION:2.0
PRODID:-//Westchester Institute for Human Development - ECPv6.0.10//NONSGML v1.0//EN
CALSCALE:GREGORIAN
METHOD:PUBLISH
X-ORIGINAL-URL:https://www.wihd.org
X-WR-CALDESC:Events for Westchester Institute for Human Development
REFRESH-INTERVAL;VALUE=DURATION:PT1H
X-Robots-Tag:noindex
X-PUBLISHED-TTL:PT1H
BEGIN:VTIMEZONE
TZID:America/New_York
BEGIN:DAYLIGHT
TZOFFSETFROM:-0500
TZOFFSETTO:-0400
TZNAME:EDT
DTSTART:20240310T070000
END:DAYLIGHT
BEGIN:STANDARD
TZOFFSETFROM:-0400
TZOFFSETTO:-0500
TZNAME:EST
DTSTART:20241103T060000
END:STANDARD
END:VTIMEZONE
BEGIN:VEVENT
DTSTART;TZID=America/New_York:20241107T180000
DTEND;TZID=America/New_York:20241107T193000
DTSTAMP:20260422T185535
CREATED:20241003T203327Z
LAST-MODIFIED:20241003T203327Z
UID:19389-1731002400-1731007800@www.wihd.org
SUMMARY:Student Involvement in the Individualized Education Program (IEP) For Families
DESCRIPTION:This training is intended to promote and encourage student and family involvement in the Individualized Education Program (IEP) development process and Committee on Special Education (CSE) meetings. Participants will identify ways to build and encourage their child’s self-determination skills in order to meaningfully participate to the greatest extent possible\, in their own educational planning and active involvement in annual review meetings. The Student-Directed IEP approach can be utilized at any age from K-12th grade. Tools\, resources\, and research-based information will be provided. \nZoom Registration Link: Click Here
URL:https://www.wihd.org/event/student-involvement-in-the-individualized-education-program-iep-for-families-2/
LOCATION:Zoom
CATEGORIES:Regional,Virtual Stream,WIHD
END:VEVENT
END:VCALENDAR