BEGIN:VCALENDAR
VERSION:2.0
PRODID:-//Westchester Institute for Human Development - ECPv6.0.10//NONSGML v1.0//EN
CALSCALE:GREGORIAN
METHOD:PUBLISH
X-ORIGINAL-URL:https://www.wihd.org
X-WR-CALDESC:Events for Westchester Institute for Human Development
REFRESH-INTERVAL;VALUE=DURATION:PT1H
X-Robots-Tag:noindex
X-PUBLISHED-TTL:PT1H
BEGIN:VTIMEZONE
TZID:America/New_York
BEGIN:DAYLIGHT
TZOFFSETFROM:-0500
TZOFFSETTO:-0400
TZNAME:EDT
DTSTART:20240310T070000
END:DAYLIGHT
BEGIN:STANDARD
TZOFFSETFROM:-0400
TZOFFSETTO:-0500
TZNAME:EST
DTSTART:20241103T060000
END:STANDARD
END:VTIMEZONE
BEGIN:VEVENT
DTSTART;TZID=America/New_York:20240725T120000
DTEND;TZID=America/New_York:20240725T133000
DTSTAMP:20260423T051124
CREATED:20240627T193808Z
LAST-MODIFIED:20240627T193808Z
UID:19106-1721908800-1721914200@www.wihd.org
SUMMARY:Testing Accommodations for Students with Disabilities
DESCRIPTION:School may be over but some students will be taking Regents examinations in August. This training will help participants understand the appropriate use of test accommodations for students with disabilities. It will provide information related to the decision-making process\, the types of test accommodations that are available\, and how they are documented on the Individualized Education Program (IEP).\n \nZoom Registration Link: Click Here \n 
URL:https://www.wihd.org/event/testing-accommodations-for-students-with-disabilities-4/
LOCATION:Zoom
CATEGORIES:Regional,Virtual Stream,WIHD
END:VEVENT
END:VCALENDAR