BEGIN:VCALENDAR
VERSION:2.0
PRODID:-//Westchester Institute for Human Development - ECPv6.0.10//NONSGML v1.0//EN
CALSCALE:GREGORIAN
METHOD:PUBLISH
X-WR-CALNAME:Westchester Institute for Human Development
X-ORIGINAL-URL:https://www.wihd.org
X-WR-CALDESC:Events for Westchester Institute for Human Development
REFRESH-INTERVAL;VALUE=DURATION:PT1H
X-Robots-Tag:noindex
X-PUBLISHED-TTL:PT1H
BEGIN:VTIMEZONE
TZID:America/New_York
BEGIN:DAYLIGHT
TZOFFSETFROM:-0500
TZOFFSETTO:-0400
TZNAME:EDT
DTSTART:20240310T070000
END:DAYLIGHT
BEGIN:STANDARD
TZOFFSETFROM:-0400
TZOFFSETTO:-0500
TZNAME:EST
DTSTART:20241103T060000
END:STANDARD
END:VTIMEZONE
BEGIN:VEVENT
DTSTART;TZID=America/New_York:20240607T120000
DTEND;TZID=America/New_York:20240607T130000
DTSTAMP:20260423T032254
CREATED:20240516T125924Z
LAST-MODIFIED:20240516T125924Z
UID:18680-1717761600-1717765200@www.wihd.org
SUMMARY:Taller #1: Toma de decisiones con apoyo (SDM)\,  tutela y otras alternativas/Workshop #1: Supported Decision Making (SDM)\, Guardianship\, and Other Alternatives
DESCRIPTION:Fecha y hora: viernes 7 de junio 12-1pmh \nThursday\, June 7\, 2024 – 12:00 pm to 1:00 pm \nEste taller se impartirá únicamente en español. \nThis workshop will be given in Spanish only. \nMuchos padres y cuidadores tienen preguntas sobre cuál es la mejor manera de apoyar a su ser querido con discapacidades intelectuales y del desarrollo a tomar decisiones cuando sea adulto. ¿Cuáles son las preocupaciones en torno a la tutela? ¿Qué pasa con la toma de decisiones apoyada? ¿Cómo desempeñan un papel las directivas anticipadas\, como los poderes para atención médica y los poderes duraderos? Este taller proporcionará a los cuidadores la información para afrontar estos problemas. \nMany parents and caregivers have questions about how best to support their loved one with intellectual and developmental disabilities in making decisions as an adult. What are the concerns around guardianship? What about supported decision-making? How do advance directives\, such as health care powers of attorney and durable powers of attorney\, play a role? This workshop will provide caregivers with the information to navigate these issues. \nEnlace de Zoom para la registracion: Haga clic aquí \nZoom Registration Link: Click Here
URL:https://www.wihd.org/event/taller-1-toma-de-decisiones-con-apoyo-sdm-tutela-y-otras-alternativas-workshop-1-supported-decision-making-sdm-guardianship-and-other-alternatives/
LOCATION:Zoom
CATEGORIES:Regional,Virtual Stream,WIHD
END:VEVENT
END:VCALENDAR