BEGIN:VCALENDAR
VERSION:2.0
PRODID:-//Westchester Institute for Human Development - ECPv6.0.10//NONSGML v1.0//EN
CALSCALE:GREGORIAN
METHOD:PUBLISH
X-WR-CALNAME:Westchester Institute for Human Development
X-ORIGINAL-URL:https://www.wihd.org
X-WR-CALDESC:Events for Westchester Institute for Human Development
REFRESH-INTERVAL;VALUE=DURATION:PT1H
X-Robots-Tag:noindex
X-PUBLISHED-TTL:PT1H
BEGIN:VTIMEZONE
TZID:America/New_York
BEGIN:DAYLIGHT
TZOFFSETFROM:-0500
TZOFFSETTO:-0400
TZNAME:EDT
DTSTART:20240310T070000
END:DAYLIGHT
BEGIN:STANDARD
TZOFFSETFROM:-0400
TZOFFSETTO:-0500
TZNAME:EST
DTSTART:20241103T060000
END:STANDARD
END:VTIMEZONE
BEGIN:VEVENT
DTSTART;TZID=America/New_York:20240523T183000
DTEND;TZID=America/New_York:20240523T200000
DTSTAMP:20260423T045904
CREATED:20240411T113244Z
LAST-MODIFIED:20240411T113244Z
UID:18605-1716489000-1716494400@www.wihd.org
SUMMARY:Life-Skills Workshop Series Session #2
DESCRIPTION:Life-skills\, or daily living skills\, are abilities that our loved ones with intellectual and developmental disabilities need to achieve their highest level of independence. These include skills related to managing money\, personal hygiene\, medication management\, taking care of living spaces\, laundry\, cooking\, transportation\, and shopping. \nPlease join us for a three-workshop series for caregivers about supporting life-skills learning for children\, teens and young adults with intellectual or developmental disabilities. You will need to come to the workshop with at least one idea for a life-skill that you want your loved one to work on. \nWe will cover: \n· The process of teaching and reinforcing life-skills \n· The self-advocate’s perspective on the challenges in developing these skills \nZoom Registration Link: Click here
URL:https://www.wihd.org/event/life-skills-workshop-series-session-2/
LOCATION:Zoom
CATEGORIES:Regional,Virtual Stream,WIHD
END:VEVENT
END:VCALENDAR