BEGIN:VCALENDAR
VERSION:2.0
PRODID:-//Westchester Institute for Human Development - ECPv6.0.10//NONSGML v1.0//EN
CALSCALE:GREGORIAN
METHOD:PUBLISH
X-WR-CALNAME:Westchester Institute for Human Development
X-ORIGINAL-URL:https://www.wihd.org
X-WR-CALDESC:Events for Westchester Institute for Human Development
REFRESH-INTERVAL;VALUE=DURATION:PT1H
X-Robots-Tag:noindex
X-PUBLISHED-TTL:PT1H
BEGIN:VTIMEZONE
TZID:America/New_York
BEGIN:DAYLIGHT
TZOFFSETFROM:-0500
TZOFFSETTO:-0400
TZNAME:EDT
DTSTART:20240310T070000
END:DAYLIGHT
BEGIN:STANDARD
TZOFFSETFROM:-0400
TZOFFSETTO:-0500
TZNAME:EST
DTSTART:20241103T060000
END:STANDARD
END:VTIMEZONE
BEGIN:VEVENT
DTSTART;TZID=America/New_York:20240917T120000
DTEND;TZID=America/New_York:20240917T130000
DTSTAMP:20260422T201740
CREATED:20240823T231327Z
LAST-MODIFIED:20240823T231327Z
UID:19254-1726574400-1726578000@www.wihd.org
SUMMARY:Monthly Decision Making Series  Workshop #1: Supported Decision-Making (SDM)\,  Guardianship\, and other Alternatives
DESCRIPTION:Join us for our three-workshop series where we will present instruments and methods used to support loved ones with disabilities in making choices as they approach the age of adulthood. \nWorkshop #1: Supported Decision-Making (SDM)\, Guardianship\, and other Alternatives \nMany parents and caregivers have questions about how best their loved one with intellectual and developmental disabilities may be supported in making decisions as an adult. What are the concerns around guardianship? What about Supported Decision Making? How do advance directives such as health care proxies and durable power of attorney factor in? This workshop should be taken before the Guardianship and Digging into Supported Decision-Making workshops. If you have already taken this WIHD zoom workshop\, please register instead for the Digging in to Supported Decision-Making workshop. \nZoom Registration Link: Click Here
URL:https://www.wihd.org/event/monthly-decision-making-series-workshop-1-supported-decision-making-sdm-guardianship-and-other-alternatives-10/
LOCATION:Zoom
CATEGORIES:Regional,Virtual Stream,WIHD
END:VEVENT
BEGIN:VEVENT
DTSTART;TZID=America/New_York:20240918T120000
DTEND;TZID=America/New_York:20240918T130000
DTSTAMP:20260422T201740
CREATED:20240823T231938Z
LAST-MODIFIED:20240823T231938Z
UID:19256-1726660800-1726664400@www.wihd.org
SUMMARY:Monthly Decision Making Series  Workshop #2: Digging in to Supported Decision-Making
DESCRIPTION:Join us for our three-workshop series where we will present instruments and methods used to support loved ones with disabilities in making choices as they approach the age of adulthood. \nWorkshop #2: Digging in to Supported Decision-Making \nThis workshop is intended for individuals who have already attended our monthly Supported Decision Making\, Guardianship\, and other Alternatives workshop\, and want to know more about SDM. We will review Article 82\, the NY State supported decision making law\, and will answer SDM-specific questions. \nZoom Registration Link: Click Here
URL:https://www.wihd.org/event/monthly-decision-making-series-workshop-2-digging-in-to-supported-decision-making-10/
LOCATION:Zoom
CATEGORIES:Regional,Virtual Stream,WIHD
END:VEVENT
BEGIN:VEVENT
DTSTART;TZID=America/New_York:20240919T120000
DTEND;TZID=America/New_York:20240919T130000
DTSTAMP:20260422T201740
CREATED:20240823T232348Z
LAST-MODIFIED:20240823T232348Z
UID:19258-1726747200-1726750800@www.wihd.org
SUMMARY:Monthly Decision Making Series  Workshop #3: Guardianship Workshop
DESCRIPTION:Join us for our three-workshop series where we will present instruments and methods used to support loved ones with disabilities in making choices as they approach the age of adulthood. \nWorkshop #3: Guardianship Workshop \nThis workshop is intended for individuals who have already attended our monthly Supported Decision Making\, Guardianship\, and other Alternatives workshop\, and have determined that guardianship is the most appropriate alternative. Since guardianship is considered the most restrictive form of decision support\, it is recommended that you also attend the Digging in to Supported Decision-Making workshop before signing up for this one. We will review the process of putting together a petition for guardianship and the documentation requirements. \nZoom Registration Link: Click Here
URL:https://www.wihd.org/event/monthly-decision-making-series-workshop-3-guardianship-workshop-10/
LOCATION:Zoom
CATEGORIES:Regional,Virtual Stream,WIHD
END:VEVENT
BEGIN:VEVENT
DTSTART;TZID=America/New_York:20240920T100000
DTEND;TZID=America/New_York:20240920T120000
DTSTAMP:20260422T201740
CREATED:20240823T154920Z
LAST-MODIFIED:20240823T160813Z
UID:19245-1726826400-1726833600@www.wihd.org
SUMMARY:SPECIAL EDUCATION TASK FORCE WEBINAR: Special Education Legal Updates 2024
DESCRIPTION:Back by popular demand\, participants will receive an update on new and updated special education laws\, regulations\, state and federal guidance\, and trending topics or issues. Significant proposed changes to NYS graduation measures\, updated guidance on behavioral support\, discipline and manifestation determination\, new procedural safeguards\, and new reporting obligations are just the start of some of the changes in store for the 2024-2025 school year. The presenter will share a legal update on new or revised guidance from the US Department of Education including the Office of Special Education Programs (OSEP)\, the Office of Special Education and Rehabilitative Programs (OSERS)\, and New York State Department of Education (NYSED) and how they may impact access to or delivery of special education for the 2024-2025 school year. The presentation will offer a summary update and brief analysis of relevant changes or updates and how they may impact identification\, evaluation\, eligibility\, implementation\, and procedural rights and protections related to special education programs and services for students with disabilities. \nClick Here for Flyer and Registration \n 
URL:https://www.wihd.org/event/special-education-task-force-webinar-special-education-legal-updates-2024/
LOCATION:Zoom
CATEGORIES:Regional,Virtual Stream,WIHD
END:VEVENT
BEGIN:VEVENT
DTSTART;TZID=America/New_York:20240924T120000
DTEND;TZID=America/New_York:20240924T130000
DTSTAMP:20260422T201740
CREATED:20240903T115049Z
LAST-MODIFIED:20240918T143155Z
UID:19273-1727179200-1727182800@www.wihd.org
SUMMARY:DATE CHANGE! PLEASE SEE BELOW - Specially Designed Instruction:  A Guide for Families and Caregivers
DESCRIPTION:DATE CHANGE:  We apologize that this event has been changed to Thursday\, September 26\, 2024.  The registration link can be found on our 9/26/24 calendar.  \nParticipants will: \n• understand the development and use of Specially Designed Instruction for students with disabilities. \n• understand that there is both federal and state regulation around Specially Designed Instruction. \n• examine what Specially Designed Instruction might look like in the classroom and in the home. \n• understand their value as engaged meaningful partners in the special education process and education of their child. \n  \nPresented by:  Lower Hudson Family and Community Engagement (FACE) Center\, Mid-Hudson Family and Community Engagement (FACE) Center\, NYSED OSE Partnership
URL:https://www.wihd.org/event/specially-designed-instruction-a-guide-for-families-and-caregivers-2/
LOCATION:Zoom
CATEGORIES:Regional,Virtual Stream,WIHD
END:VEVENT
BEGIN:VEVENT
DTSTART;TZID=America/New_York:20240925T113000
DTEND;TZID=America/New_York:20240925T123000
DTSTAMP:20260422T201740
CREATED:20240912T130839Z
LAST-MODIFIED:20240912T130839Z
UID:19299-1727263800-1727267400@www.wihd.org
SUMMARY:EI (Early Intervention) to CPSE (Preschool Special Education) for Families
DESCRIPTION:This presentation will guide parents through the process of transitioning their child from Early Intervention to the Committee on Preschool Special Education. \nZoom Registration Link: Click Here
URL:https://www.wihd.org/event/ei-early-intervention-to-cpse-preschool-special-education-for-families-6/
LOCATION:Zoom
CATEGORIES:Regional,Virtual Stream,WIHD
END:VEVENT
BEGIN:VEVENT
DTSTART;TZID=America/New_York:20240926T120000
DTEND;TZID=America/New_York:20240926T130000
DTSTAMP:20260422T201740
CREATED:20240918T143509Z
LAST-MODIFIED:20240918T143938Z
UID:19310-1727352000-1727355600@www.wihd.org
SUMMARY:Specially Designed Instruction: A Guide for Families and Caregivers
DESCRIPTION:Participants will: \n• understand the development and use of Specially Designed Instruction for students with disabilities. \n• understand that there is both federal and state regulation around Specially Designed Instruction. \n• examine what Specially Designed Instruction might look like in the classroom and in the home. \n• understand their value as engaged meaningful partners in the special education process and education of their child. \nZoom Registration Link: Click Here \n 
URL:https://www.wihd.org/event/specially-designed-instruction-a-guide-for-families-and-caregivers-3/
LOCATION:Zoom
CATEGORIES:Regional,Virtual Stream,WIHD
END:VEVENT
BEGIN:VEVENT
DTSTART;TZID=America/New_York:20240930T120000
DTEND;TZID=America/New_York:20240930T133000
DTSTAMP:20260422T201740
CREATED:20240917T200117Z
LAST-MODIFIED:20240917T200117Z
UID:19307-1727697600-1727703000@www.wihd.org
SUMMARY:Student Involvement in the Individualized Education Program (IEP) for Families
DESCRIPTION:This training is intended to promote and encourage student and family involvement in the Individualized Education Program (IEP) development process and Committee on Special Education (CSE) meetings. Participants will identify ways to build and encourage their child’s self-determination skills in order to meaningfully participate to the greatest extent possible\, in their own educational planning and active involvement in annual review meetings. The Student-Directed IEP approach can be utilized at any age from K-12th grade. Tools\, resources\, and research-based information will be provided. \nZoom Registration Link: Click Here
URL:https://www.wihd.org/event/student-involvement-in-the-individualized-education-program-iep-for-families/
LOCATION:Zoom
CATEGORIES:Regional,Virtual Stream,WIHD
END:VEVENT
END:VCALENDAR