BEGIN:VCALENDAR
VERSION:2.0
PRODID:-//Westchester Institute for Human Development - ECPv6.0.10//NONSGML v1.0//EN
CALSCALE:GREGORIAN
METHOD:PUBLISH
X-WR-CALNAME:Westchester Institute for Human Development
X-ORIGINAL-URL:https://www.wihd.org
X-WR-CALDESC:Events for Westchester Institute for Human Development
REFRESH-INTERVAL;VALUE=DURATION:PT1H
X-Robots-Tag:noindex
X-PUBLISHED-TTL:PT1H
BEGIN:VTIMEZONE
TZID:America/New_York
BEGIN:DAYLIGHT
TZOFFSETFROM:-0500
TZOFFSETTO:-0400
TZNAME:EDT
DTSTART:20240310T070000
END:DAYLIGHT
BEGIN:STANDARD
TZOFFSETFROM:-0400
TZOFFSETTO:-0500
TZNAME:EST
DTSTART:20241103T060000
END:STANDARD
END:VTIMEZONE
BEGIN:VEVENT
DTSTART;TZID=America/New_York:20240607T120000
DTEND;TZID=America/New_York:20240607T130000
DTSTAMP:20260423T013308
CREATED:20240516T125924Z
LAST-MODIFIED:20240516T125924Z
UID:18680-1717761600-1717765200@www.wihd.org
SUMMARY:Taller #1: Toma de decisiones con apoyo (SDM)\,  tutela y otras alternativas/Workshop #1: Supported Decision Making (SDM)\, Guardianship\, and Other Alternatives
DESCRIPTION:Fecha y hora: viernes 7 de junio 12-1pmh \nThursday\, June 7\, 2024 – 12:00 pm to 1:00 pm \nEste taller se impartirá únicamente en español. \nThis workshop will be given in Spanish only. \nMuchos padres y cuidadores tienen preguntas sobre cuál es la mejor manera de apoyar a su ser querido con discapacidades intelectuales y del desarrollo a tomar decisiones cuando sea adulto. ¿Cuáles son las preocupaciones en torno a la tutela? ¿Qué pasa con la toma de decisiones apoyada? ¿Cómo desempeñan un papel las directivas anticipadas\, como los poderes para atención médica y los poderes duraderos? Este taller proporcionará a los cuidadores la información para afrontar estos problemas. \nMany parents and caregivers have questions about how best to support their loved one with intellectual and developmental disabilities in making decisions as an adult. What are the concerns around guardianship? What about supported decision-making? How do advance directives\, such as health care powers of attorney and durable powers of attorney\, play a role? This workshop will provide caregivers with the information to navigate these issues. \nEnlace de Zoom para la registracion: Haga clic aquí \nZoom Registration Link: Click Here
URL:https://www.wihd.org/event/taller-1-toma-de-decisiones-con-apoyo-sdm-tutela-y-otras-alternativas-workshop-1-supported-decision-making-sdm-guardianship-and-other-alternatives/
LOCATION:Zoom
CATEGORIES:Regional,Virtual Stream,WIHD
END:VEVENT
BEGIN:VEVENT
DTSTART;TZID=America/New_York:20240611T120000
DTEND;TZID=America/New_York:20240611T133000
DTSTAMP:20260423T013308
CREATED:20240424T233836Z
LAST-MODIFIED:20240424T233836Z
UID:18630-1718107200-1718112600@www.wihd.org
SUMMARY:Post School Planning for Young Adults Not Going to College
DESCRIPTION:Join us for a discussion on program options and considerations for young adults with intellectual/developmental disabilities. Participants can ask any questions they may have including the eligibility process for services through the Office for People With Developmental Disabilities (OPWDD) and other state service systems\, the types of programs and support services available\, as well as things to consider when selecting or visiting adult community-based programs. \nZoom Registration Link: Click Here
URL:https://www.wihd.org/event/post-school-planning-for-young-adults-not-going-to-college/
LOCATION:Zoom
CATEGORIES:Regional,Virtual Stream,WIHD
END:VEVENT
BEGIN:VEVENT
DTSTART;TZID=America/New_York:20240611T180000
DTEND;TZID=America/New_York:20240611T190000
DTSTAMP:20260423T013308
CREATED:20240603T172105Z
LAST-MODIFIED:20240603T172105Z
UID:19055-1718128800-1718132400@www.wihd.org
SUMMARY:Self-Advocates: Peer to Peer Discussion about Dating and Relationships
DESCRIPTION:Self-Advocates: Peer to Peer Discussion about Dating and Relationships \nZoom Registration Link: Click Here
URL:https://www.wihd.org/event/self-advocates-peer-to-peer-discussion-about-dating-and-relationships-6/
LOCATION:Zoom
CATEGORIES:Regional,Virtual Stream,WIHD
ORGANIZER;CN="WIHD%20Self%20Advocacy%20Group":MAILTO:mlevitz@wihd.org
END:VEVENT
BEGIN:VEVENT
DTSTART;TZID=America/New_York:20240613T120000
DTEND;TZID=America/New_York:20240613T130000
DTSTAMP:20260423T013308
CREATED:20240522T003459Z
LAST-MODIFIED:20240522T141237Z
UID:19030-1718280000-1718283600@www.wihd.org
SUMMARY:Explicit Vocabulary Instruction for Families
DESCRIPTION:Come to this session for parents and caregivers to learn how to support your child’s development of new vocabulary\, the importance of vocabulary instruction and ways to incorporate vocabulary instruction at home for your children who are in Pre-K through grade 6. \nZoom Registration Link: Click Here
URL:https://www.wihd.org/event/explicit-vocabulary-instruction-for-families-4/
LOCATION:Zoom
CATEGORIES:Regional,Virtual Stream,WIHD
END:VEVENT
BEGIN:VEVENT
DTSTART;TZID=America/New_York:20240618T120000
DTEND;TZID=America/New_York:20240618T133000
DTSTAMP:20260423T013308
CREATED:20240426T194607Z
LAST-MODIFIED:20240603T164227Z
UID:18642-1718712000-1718717400@www.wihd.org
SUMMARY:Family Forum: Post School Planning for Young Adults Going to College
DESCRIPTION:Join us for a discussion on how things will be different from high school for young adults with disabilities who plan to pursue a college degree. Participants can ask any questions they may have\, including the process for accessing accommodations\, the disability documentation needed\, possible types of college-related services available through Adult Career and Continuing Education Services-Vocational Rehabilitation (ACCES-VR)\, as well as things to consider when selecting or visiting 2 & 4 year colleges and universities. \nZoom Registration Link: Click Here
URL:https://www.wihd.org/event/family-forum-post-school-planning-for-young-adults-going-to-college-2/
LOCATION:Zoom
CATEGORIES:Regional,Virtual Stream,WIHD
END:VEVENT
BEGIN:VEVENT
DTSTART;TZID=America/New_York:20240619T180000
DTEND;TZID=America/New_York:20240619T190000
DTSTAMP:20260423T013308
CREATED:20240603T163527Z
LAST-MODIFIED:20240603T163745Z
UID:19051-1718820000-1718823600@www.wihd.org
SUMMARY:"Hear Our Voices” Self-Advocacy Monthly Group Meeting
DESCRIPTION:“Hear Our Voices” Self-Advocacy Monthly Group Meeting \nZoom Registration Link:  Click Here
URL:https://www.wihd.org/event/hear-our-voices-self-advocacy-monthly-group-meeting-5/
LOCATION:Zoom
CATEGORIES:Regional,Virtual Stream,WIHD
ORGANIZER;CN="WIHD%20Self%20Advocacy%20Group":MAILTO:mlevitz@wihd.org
END:VEVENT
BEGIN:VEVENT
DTSTART;TZID=America/New_York:20240620T180000
DTEND;TZID=America/New_York:20240620T193000
DTSTAMP:20260423T013308
CREATED:20240424T111131Z
LAST-MODIFIED:20240424T112129Z
UID:18622-1718906400-1718911800@www.wihd.org
SUMMARY:Supporting Your Child in Work Based Learning Experiences
DESCRIPTION:The purpose of Supporting Your Child in Work-Based Learning (WBL) Experiences is to provide families and guardians with the foundational knowledge of what high-quality WBL looks like in New York State (NYS) including but not limited to: exploring registered and unregistered program options available to students with disabilities\, reviewing the career development process and the NYS framework for WBL\, determining who the essential partners are in order to ensure students are receiving an individualized and collaborative experience\, and identifying activities and strategies to increase career awareness and development in the home and community. \nZoom Registration Link: Click Here
URL:https://www.wihd.org/event/supporting-your-child-in-work-based-learning-experiences/
LOCATION:Zoom
CATEGORIES:Regional,Virtual Stream,WIHD
END:VEVENT
BEGIN:VEVENT
DTSTART;TZID=America/New_York:20240625T120000
DTEND;TZID=America/New_York:20240625T130000
DTSTAMP:20260423T013308
CREATED:20240603T220700Z
LAST-MODIFIED:20240603T220700Z
UID:19057-1719316800-1719320400@www.wihd.org
SUMMARY:Monthly Decision Making Series Workshop #1: Supported Decision-Making (SDM)\, Guardianship\, and other Alternatives
DESCRIPTION:Join us for our three-workshop series where we will present instruments and methods used to support loved ones with disabilities in making choices as they approach the age of adulthood. \nWorkshop #1: Supported Decision-Making (SDM)\, Guardianship\, and other Alternatives \nMany parents and caregivers have questions about how best their loved one with intellectual and developmental disabilities may be supported in making decisions as an adult. What are the concerns around guardianship? What about Supported Decision Making? How do advance directives such as health care proxies and durable power of attorney factor in? This workshop should be taken before the Guardianship and Digging into Supported Decision-Making workshops. If you have already taken this WIHD zoom workshop\, please register instead for the Digging in to Supported Decision-Making workshop. \nZoom Registration Link: Click Here
URL:https://www.wihd.org/event/monthly-decision-making-series-workshop-1-supported-decision-making-sdm-guardianship-and-other-alternatives-7/
LOCATION:Zoom
CATEGORIES:Regional,Virtual Stream,WIHD
END:VEVENT
BEGIN:VEVENT
DTSTART;TZID=America/New_York:20240625T183000
DTEND;TZID=America/New_York:20240625T200000
DTSTAMP:20260423T013308
CREATED:20240430T145818Z
LAST-MODIFIED:20240621T225018Z
UID:18652-1719340200-1719345600@www.wihd.org
SUMMARY:Life-Skills Workshop Series Session #3
DESCRIPTION:Workshop 3 will be in a moderated panel format. We are thrilled to have Paul Evangelista and Dan Zarro\, together with their moms Eleanor Evangelista and Tricia Zarro with us to share their life-skills journey.  Paul and Dan are both young adults with autism. \nLife-skills\, or daily living skills\, are abilities that our loved ones with intellectual and developmental disabilities need to achieve their highest level of independence. These include skills related to managing money\, personal hygiene\, medication management\, taking care of living spaces\, laundry\, cooking\, transportation\, and shopping. \nPlease join us for a three-workshop series for caregivers about supporting life-skills learning for children\, teens and young adults with intellectual or developmental disabilities. You will need to come to the workshop with at least one idea for a life-skill that you want your loved one to work on. \nWe will cover: \n· The process of teaching and reinforcing life-skills \n· The self-advocate’s perspective on the challenges in developing these skills \nZoom Registration Link: Click here
URL:https://www.wihd.org/event/life-skills-workshop-series-session-3/
LOCATION:Zoom
CATEGORIES:Regional,Virtual Stream,WIHD
END:VEVENT
BEGIN:VEVENT
DTSTART;TZID=America/New_York:20240626T120000
DTEND;TZID=America/New_York:20240626T130000
DTSTAMP:20260423T013308
CREATED:20240603T221925Z
LAST-MODIFIED:20240603T221925Z
UID:19059-1719403200-1719406800@www.wihd.org
SUMMARY:Monthly Decision Making Series Workshop #2: Digging in to Supported Decision-Making
DESCRIPTION:Join us for our three-workshop series where we will present instruments and methods used to support loved ones with disabilities in making choices as they approach the age of adulthood. \nWorkshop #2: Digging in to Supported Decision-Making \nThis workshop is intended for individuals who have already attended our monthly Supported Decision Making\, Guardianship\, and other Alternatives workshop\, and want to know more about SDM. We will review Article 82\, the NY State supported decision making law\, and will answer SDM-specific questions. \nZoom Registration Link: Click Here
URL:https://www.wihd.org/event/monthly-decision-making-series-workshop-2-digging-in-to-supported-decision-making-7/
LOCATION:Zoom
CATEGORIES:Regional,Virtual Stream,WIHD
END:VEVENT
BEGIN:VEVENT
DTSTART;TZID=America/New_York:20240627T120000
DTEND;TZID=America/New_York:20240627T130000
DTSTAMP:20260423T013308
CREATED:20240603T222627Z
LAST-MODIFIED:20240603T222627Z
UID:19061-1719489600-1719493200@www.wihd.org
SUMMARY:Monthly Decision Making Series Workshop #3: Guardianship Workshop
DESCRIPTION:Join us for our three-workshop series where we will present instruments and methods used to support loved ones with disabilities in making choices as they approach the age of adulthood. \nWorkshop #3: Guardianship Workshop \nThis workshop is intended for individuals who have already attended our monthly Supported Decision Making\, Guardianship\, and other Alternatives workshop\, and have determined that guardianship is the most appropriate alternative. Since guardianship is considered the most restrictive form of decision support\, it is recommended that you also attend the Digging in to Supported Decision-Making workshop before signing up for this one. We will review the process of putting together a petition for guardianship and the documentation requirements. \nZoom Registration Link: Click Here
URL:https://www.wihd.org/event/monthly-decision-making-series-workshop-3-guardianship-workshop-7/
LOCATION:Zoom
CATEGORIES:Regional,Virtual Stream,WIHD
END:VEVENT
END:VCALENDAR