BEGIN:VCALENDAR
VERSION:2.0
PRODID:-//Westchester Institute for Human Development - ECPv6.0.10//NONSGML v1.0//EN
CALSCALE:GREGORIAN
METHOD:PUBLISH
X-WR-CALNAME:Westchester Institute for Human Development
X-ORIGINAL-URL:https://www.wihd.org
X-WR-CALDESC:Events for Westchester Institute for Human Development
REFRESH-INTERVAL;VALUE=DURATION:PT1H
X-Robots-Tag:noindex
X-PUBLISHED-TTL:PT1H
BEGIN:VTIMEZONE
TZID:America/New_York
BEGIN:DAYLIGHT
TZOFFSETFROM:-0500
TZOFFSETTO:-0400
TZNAME:EDT
DTSTART:20260308T070000
END:DAYLIGHT
BEGIN:STANDARD
TZOFFSETFROM:-0400
TZOFFSETTO:-0500
TZNAME:EST
DTSTART:20261101T060000
END:STANDARD
END:VTIMEZONE
BEGIN:VEVENT
DTSTART;TZID=America/New_York:20260423T120000
DTEND;TZID=America/New_York:20260423T130000
DTSTAMP:20260423T022904
CREATED:20260407T144523Z
LAST-MODIFIED:20260407T144808Z
UID:21361-1776945600-1776949200@www.wihd.org
SUMMARY:Self-Direction: An Overview
DESCRIPTION:Learn about OPWDD’s self-direction services which allows for more choice in OPWDD-funded supports and services. The individual must be eligible for OPWDD services and participating in Care Management services through a Care Coordination Organization (CCO) to be approved for self-direction. Therefore\, it is recommended that you first attend a workshop on OPWDD eligibility if the person with the disability does not already have it.  \nZoom Registration: Click Here
URL:https://www.wihd.org/event/self-direction-an-overview-10/
LOCATION:Zoom
CATEGORIES:Regional,Virtual Stream,WIHD
END:VEVENT
BEGIN:VEVENT
DTSTART;TZID=America/New_York:20260423T150000
DTEND;TZID=America/New_York:20260423T170000
DTSTAMP:20260423T022904
CREATED:20260225T010312Z
LAST-MODIFIED:20260225T010916Z
UID:21227-1776956400-1776963600@www.wihd.org
SUMMARY:The 2026 TRANSITION FAIR
DESCRIPTION:Join us at the Orange County 2026 Transition Fair! \n\nStudents and families are invited to explore and connect with community resources and supports that promote a successful transition to life after school. \nClick Here for Flyer and Registration
URL:https://www.wihd.org/event/21227/
LOCATION:Orange-Ulster BOCES\, Emanuel Axelrod Education Center\, Emanuel Axelrod Education Center\, 53 Gibson Road\, Goshen\, NY\, 10924\, United States
CATEGORIES:Regional,Virtual Stream,WIHD
END:VEVENT
BEGIN:VEVENT
DTSTART;TZID=America/New_York:20260424T100000
DTEND;TZID=America/New_York:20260424T111500
DTSTAMP:20260423T022904
CREATED:20260414T011359Z
LAST-MODIFIED:20260416T170333Z
UID:21372-1777024800-1777029300@www.wihd.org
SUMMARY:Supported Decision-Making (SDM)\, Guardianship\, and other Alternatives
DESCRIPTION:In this workshop we will present instruments and methods used to support loved ones with disabilities in making choices as they approach the age of adulthood. \nSupported Decision-Making (SDM)\, Guardianship\, and other Alternatives \nMany parents and caregivers have questions about how best their loved one with intellectual and developmental disabilities may be supported in making decisions as an adult. What are the concerns around guardianship? What about Supported Decision Making? How do advance directives such as health care proxies and durable power of attorney factor in?  \nZoom Registration: Click Here
URL:https://www.wihd.org/event/supported-decision-making-sdm-guardianship-and-other-alternatives-9/
LOCATION:Zoom
CATEGORIES:Regional,Virtual Stream,WIHD
END:VEVENT
BEGIN:VEVENT
DTSTART;TZID=America/New_York:20260425T130000
DTEND;TZID=America/New_York:20260425T160000
DTSTAMP:20260423T022904
CREATED:20260402T233355Z
LAST-MODIFIED:20260403T122815Z
UID:21344-1777122000-1777132800@www.wihd.org
SUMMARY:13th  Annual Autism Provider and Resource Fair
DESCRIPTION:Come to this Autism Fair to receive RESOURCES\, meet PROVIDERS and get SUPPORT \nClick Here for Flyer and Registration (English) \nClick Here for Flyer and Registration (Spanish)
URL:https://www.wihd.org/event/13th-annual-autism-provider-and-resource-fair/
LOCATION:Police Athletic League (PAL)\, 127 North Broadway\, Yonkers\, NY\, 10701
CATEGORIES:Regional,Virtual Stream,WIHD
END:VEVENT
BEGIN:VEVENT
DTSTART;TZID=America/New_York:20260428T120000
DTEND;TZID=America/New_York:20260428T130000
DTSTAMP:20260423T022904
CREATED:20260402T183738Z
LAST-MODIFIED:20260416T171126Z
UID:21336-1777377600-1777381200@www.wihd.org
SUMMARY:Supported Decision-Making (SDM)\, Guardianship\, and other Alternatives
DESCRIPTION:In this workshop we will present instruments and methods used to support loved ones with disabilities in making choices as they approach the age of adulthood. \nSupported Decision-Making (SDM)\, Guardianship\, and other Alternatives \nMany parents and caregivers have questions about how best their loved one with intellectual and developmental disabilities may be supported in making decisions as an adult. What are the concerns around guardianship? What about Supported Decision Making? How do advance directives such as health care proxies and durable power of attorney factor in?  \nZoom Registration: Click Here
URL:https://www.wihd.org/event/supported-decision-making-sdm-guardianship-and-other-alternatives-8/
LOCATION:Zoom
CATEGORIES:Regional,Virtual Stream,WIHD
END:VEVENT
BEGIN:VEVENT
DTSTART;TZID=America/New_York:20260429T120000
DTEND;TZID=America/New_York:20260429T130000
DTSTAMP:20260423T022904
CREATED:20260416T152436Z
LAST-MODIFIED:20260416T152436Z
UID:21376-1777464000-1777467600@www.wihd.org
SUMMARY:Supported Decision-Making
DESCRIPTION:Supported Decision-Making (SDM) helps people with intellectual and developmental disabilities make decisions with the support of trusted individuals. The Supported Decision-Making process is a less restrictive alternative to Guardianship. SDM is now being offered in New York through AIM Services. Join Alexis Harrington\, AIM’s Chief of Program Implementation and Joan Cornachio\, former SDMNY Associate Director and current AIM subcontractor\, for an overview of Supported Decision-Making and the SDM facilitation process. \nZoom Registration: Click Here
URL:https://www.wihd.org/event/supported-decision-making-2/
LOCATION:Zoom
CATEGORIES:Regional,Virtual Stream,WIHD
END:VEVENT
BEGIN:VEVENT
DTSTART;TZID=America/New_York:20260430T120000
DTEND;TZID=America/New_York:20260430T130000
DTSTAMP:20260423T022904
CREATED:20260402T191634Z
LAST-MODIFIED:20260416T170621Z
UID:21338-1777550400-1777554000@www.wihd.org
SUMMARY:Guardianship Workshop
DESCRIPTION:Applying for Guardianship: Requirements and Process \nThis workshop is intended for individuals who have already attended our monthly Supported Decision Making\, Guardianship\, and other Alternatives workshop\, and have determined that guardianship is the most appropriate alternative. We will review the process of putting together a petition for guardianship and the documentation requirements. \nZoom Registration: Click Here
URL:https://www.wihd.org/event/monthly-decision-making-series-guardianship-workshop/
LOCATION:Zoom
CATEGORIES:Regional,Virtual Stream,WIHD
END:VEVENT
BEGIN:VEVENT
DTSTART;TZID=America/New_York:20260430T150000
DTEND;TZID=America/New_York:20260430T190000
DTSTAMP:20260423T022904
CREATED:20260224T160139Z
LAST-MODIFIED:20260407T135657Z
UID:21213-1777561200-1777575600@www.wihd.org
SUMMARY:ROCKLAND Free Resource and Transition Fair
DESCRIPTION:SUPPORTS AND INFORMATION FOR NOW AND IN THE FUTURE:\nFor students with an IEP or 504 Plan\, families\, individuals and professionals.\nOver 50+ organizations and educational institutions (including colleges) will offer\ninformation and answer questions. \nClick Here for Flyer
URL:https://www.wihd.org/event/resource-and-transition-fair-3/
LOCATION:Palisades Center Community Rooms\, 1000 Palisades Center Drive\, West Nyack\, NY\, 10994\, United States
CATEGORIES:Regional,Virtual Stream,WIHD
END:VEVENT
END:VCALENDAR