BEGIN:VCALENDAR
VERSION:2.0
PRODID:-//Westchester Institute for Human Development - ECPv6.0.10//NONSGML v1.0//EN
CALSCALE:GREGORIAN
METHOD:PUBLISH
X-WR-CALNAME:Westchester Institute for Human Development
X-ORIGINAL-URL:https://www.wihd.org
X-WR-CALDESC:Events for Westchester Institute for Human Development
REFRESH-INTERVAL;VALUE=DURATION:PT1H
X-Robots-Tag:noindex
X-PUBLISHED-TTL:PT1H
BEGIN:VTIMEZONE
TZID:America/New_York
BEGIN:DAYLIGHT
TZOFFSETFROM:-0500
TZOFFSETTO:-0400
TZNAME:EDT
DTSTART:20260308T070000
END:DAYLIGHT
BEGIN:STANDARD
TZOFFSETFROM:-0400
TZOFFSETTO:-0500
TZNAME:EST
DTSTART:20261101T060000
END:STANDARD
END:VTIMEZONE
BEGIN:VEVENT
DTSTART;TZID=America/New_York:20260507T180000
DTEND;TZID=America/New_York:20260507T193000
DTSTAMP:20260423T135805
CREATED:20260422T151949Z
LAST-MODIFIED:20260422T153039Z
UID:21396-1778176800-1778182200@www.wihd.org
SUMMARY:Future Planning Series Workshop #7: Wrap Up
DESCRIPTION:This 7- workshop series\, held once a month\, aims to provide caregivers with the directions for creating a transition plan for supporting their loved ones\, as caregivers go through the aging process and beyond. \nAt the end of the workshop series\, the caregiver will have a blueprint that can be used for the transfer of knowledge to new caregivers. This blueprint includes the systems\, people and processes needed to successfully support their loved one so that they live life to the fullest. Individual workshops will cover people and staffing\, financial planning\, housing\, and estate planning. \nWorkshop #7: Wrap Up \nIn our final workshop of the series\, we will summarize the learnings of the six prior workshops and will review the legal and financial documents that were referenced. We will also revisit the “Dream Team” concept. Participants will be encouraged to share where they are in the planning process. \nZoom Registration: Click Here
URL:https://www.wihd.org/event/future-planning-series-workshop-7-wrap-up/
LOCATION:Zoom
CATEGORIES:Regional,Virtual Stream,WIHD
END:VEVENT
END:VCALENDAR