BEGIN:VCALENDAR
VERSION:2.0
PRODID:-//Westchester Institute for Human Development - ECPv6.0.10//NONSGML v1.0//EN
CALSCALE:GREGORIAN
METHOD:PUBLISH
X-WR-CALNAME:Westchester Institute for Human Development
X-ORIGINAL-URL:https://www.wihd.org
X-WR-CALDESC:Events for Westchester Institute for Human Development
REFRESH-INTERVAL;VALUE=DURATION:PT1H
X-Robots-Tag:noindex
X-PUBLISHED-TTL:PT1H
BEGIN:VTIMEZONE
TZID:America/New_York
BEGIN:DAYLIGHT
TZOFFSETFROM:-0500
TZOFFSETTO:-0400
TZNAME:EDT
DTSTART:20240310T070000
END:DAYLIGHT
BEGIN:STANDARD
TZOFFSETFROM:-0400
TZOFFSETTO:-0500
TZNAME:EST
DTSTART:20241103T060000
END:STANDARD
END:VTIMEZONE
BEGIN:VEVENT
DTSTART;TZID=America/New_York:20240123T100000
DTEND;TZID=America/New_York:20240123T113000
DTSTAMP:20260425T232353
CREATED:20231023T153212Z
LAST-MODIFIED:20231023T153940Z
UID:18068-1706004000-1706009400@www.wihd.org
SUMMARY:What is an Individualized Education Program (IEP) For Families of Preschool Students
DESCRIPTION:This workshop will provide families/parents and caregivers an overview of the process for developing an Individual Education Program (IEP) using a collaborative approach. The training provides a review of the areas of the IEP and the information that a parent\, family and/or caregiver can share with the Committee on Preschool Special Education (CPSE) regarding their child’s performance and disability related needs. \nParticipants will: \nUnderstand the Committee on Preschool Special Education (CPSE) process and your role within the process​ Identify the different components of the IEP​ Discuss how to develop relationships and practices that build home-school collaboration and support the student. \nZoom Registration Link: Click Here \n 
URL:https://www.wihd.org/event/what-is-an-individualized-education-program-iep-for-families-of-preschool-students/
LOCATION:Zoom
CATEGORIES:Regional,Virtual Stream,WIHD
END:VEVENT
END:VCALENDAR