BEGIN:VCALENDAR
VERSION:2.0
PRODID:-//Westchester Institute for Human Development - ECPv6.0.10//NONSGML v1.0//EN
CALSCALE:GREGORIAN
METHOD:PUBLISH
X-ORIGINAL-URL:https://www.wihd.org
X-WR-CALDESC:Events for Westchester Institute for Human Development
REFRESH-INTERVAL;VALUE=DURATION:PT1H
X-Robots-Tag:noindex
X-PUBLISHED-TTL:PT1H
BEGIN:VTIMEZONE
TZID:America/New_York
BEGIN:DAYLIGHT
TZOFFSETFROM:-0500
TZOFFSETTO:-0400
TZNAME:EDT
DTSTART:20250309T070000
END:DAYLIGHT
BEGIN:STANDARD
TZOFFSETFROM:-0400
TZOFFSETTO:-0500
TZNAME:EST
DTSTART:20251102T060000
END:STANDARD
END:VTIMEZONE
BEGIN:VEVENT
DTSTART;TZID=America/New_York:20250426T130000
DTEND;TZID=America/New_York:20250426T160000
DTSTAMP:20260422T234953
CREATED:20250417T125648Z
LAST-MODIFIED:20250417T130725Z
UID:20124-1745672400-1745683200@www.wihd.org
SUMMARY:Autism Resource and Provider Fair
DESCRIPTION:12th Annual Resource and Provider Fair \nClick Here for Flyer \n 
URL:https://www.wihd.org/event/autism-resource-and-provider-fair/
LOCATION:The Westchester School (New Location!)\, 40 Brewster Avenue\, Yonkers\, NY\, 10701
CATEGORIES:Regional,Virtual Stream,WIHD
END:VEVENT
END:VCALENDAR