BEGIN:VCALENDAR
VERSION:2.0
PRODID:-//Westchester Institute for Human Development - ECPv6.0.10//NONSGML v1.0//EN
CALSCALE:GREGORIAN
METHOD:PUBLISH
X-ORIGINAL-URL:https://www.wihd.org
X-WR-CALDESC:Events for Westchester Institute for Human Development
REFRESH-INTERVAL;VALUE=DURATION:PT1H
X-Robots-Tag:noindex
X-PUBLISHED-TTL:PT1H
BEGIN:VTIMEZONE
TZID:America/New_York
BEGIN:DAYLIGHT
TZOFFSETFROM:-0500
TZOFFSETTO:-0400
TZNAME:EDT
DTSTART:20250309T070000
END:DAYLIGHT
BEGIN:STANDARD
TZOFFSETFROM:-0400
TZOFFSETTO:-0500
TZNAME:EST
DTSTART:20251102T060000
END:STANDARD
END:VTIMEZONE
BEGIN:VEVENT
DTSTART;TZID=America/New_York:20250313T120000
DTEND;TZID=America/New_York:20250313T130000
DTSTAMP:20260423T013757
CREATED:20250117T120024Z
LAST-MODIFIED:20250117T120024Z
UID:19830-1741867200-1741870800@www.wihd.org
SUMMARY:Monthly Decision Making Series  Workshop #3: Guardianship Workshop
DESCRIPTION:Join us for our three-workshop series where we will present instruments and methods used to support loved ones with disabilities in making choices as they approach the age of adulthood. \nWorkshop #3: Guardianship Workshop \nThis workshop is intended for individuals who have already attended our monthly Supported Decision Making\, Guardianship\, and other Alternatives workshop\, and have determined that guardianship is the most appropriate alternative. Since guardianship is considered the most restrictive form of decision support\, it is recommended that you also attend the Digging in to Supported Decision-Making workshop before signing up for this one. We will review the process of putting together a petition for guardianship and the documentation requirements. \nZoom Registration Link: Click Here
URL:https://www.wihd.org/event/monthly-decision-making-series-workshop-3-guardianship-workshop-16/
LOCATION:Zoom
CATEGORIES:Regional,Virtual Stream,WIHD
END:VEVENT
BEGIN:VEVENT
DTSTART;TZID=America/New_York:20250313T180000
DTEND;TZID=America/New_York:20250313T193000
DTSTAMP:20260423T013757
CREATED:20250220T162733Z
LAST-MODIFIED:20250220T162733Z
UID:19996-1741888800-1741894200@www.wihd.org
SUMMARY:Testing Accommodations for Students with Disabilities
DESCRIPTION:This training will help participants understand the appropriate use of test accommodations for students with disabilities. It will provide information related to the decision-making process\, the types of test accommodations that are available\, and how they are documented on the student’s Individualized Education Program (IEP). \nZoom Registration: Click Here \n 
URL:https://www.wihd.org/event/testing-accommodations-for-students-with-disabilities-5/
LOCATION:Zoom
CATEGORIES:Regional,Virtual Stream,WIHD
END:VEVENT
END:VCALENDAR