BEGIN:VCALENDAR
VERSION:2.0
PRODID:-//Westchester Institute for Human Development - ECPv6.0.10//NONSGML v1.0//EN
CALSCALE:GREGORIAN
METHOD:PUBLISH
X-ORIGINAL-URL:https://www.wihd.org
X-WR-CALDESC:Events for Westchester Institute for Human Development
REFRESH-INTERVAL;VALUE=DURATION:PT1H
X-Robots-Tag:noindex
X-PUBLISHED-TTL:PT1H
BEGIN:VTIMEZONE
TZID:America/New_York
BEGIN:DAYLIGHT
TZOFFSETFROM:-0500
TZOFFSETTO:-0400
TZNAME:EDT
DTSTART:20250309T070000
END:DAYLIGHT
BEGIN:STANDARD
TZOFFSETFROM:-0400
TZOFFSETTO:-0500
TZNAME:EST
DTSTART:20251102T060000
END:STANDARD
END:VTIMEZONE
BEGIN:VEVENT
DTSTART;TZID=America/New_York:20250226T120000
DTEND;TZID=America/New_York:20250226T133000
DTSTAMP:20260423T013706
CREATED:20250115T202558Z
LAST-MODIFIED:20250115T202558Z
UID:19818-1740571200-1740576600@www.wihd.org
SUMMARY:Student Involvement in the Individualized Education Program (IEP) for Families
DESCRIPTION:This training is intended to promote and encourage student and family involvement in the Individualized Education Program (IEP) development process and Committee on Special Education (CSE) meetings. Participants will identify ways to build and encourage their child’s self-determination skills in order to meaningfully participate to the greatest extent possible\, in their own educational planning and active involvement in annual review meetings. The Student-Directed IEP approach can be utilized at any age from K-12th grade. Tools\, resources\, and research-based information will be provided. \nZoom Registration Link: Click Here
URL:https://www.wihd.org/event/student-involvement-in-the-individualized-education-program-iep-for-families-3/
LOCATION:Zoom
CATEGORIES:Regional,Virtual Stream,WIHD
END:VEVENT
BEGIN:VEVENT
DTSTART;TZID=America/New_York:20250226T180000
DTEND;TZID=America/New_York:20250226T193000
DTSTAMP:20260423T013706
CREATED:20250109T123446Z
LAST-MODIFIED:20250109T123446Z
UID:19777-1740592800-1740598200@www.wihd.org
SUMMARY:Diploma and Credential Options for Students with Disabilities
DESCRIPTION:Participants will learn about self-determination skills and its relation to students determining an individualized pathway to graduation from multiple options. Credit and diploma requirements\, the appeal eligibility criteria for all students\, and safety-net options for students with disabilities will be reviewed. Learn how earning a Career Development and Occupational Studies (CDOS) Commencement Credential is beneficial in a number of ways and understand the guidelines for the Skills and Achievement Commencement Credential which is awarded to students participating in the New York State Alternate Assessment (NYSAA) testing program. \nZoom Link: Click Here
URL:https://www.wihd.org/event/diploma-and-credential-options-for-students-with-disabilities-13/
LOCATION:Zoom
CATEGORIES:Regional,Virtual Stream,WIHD
END:VEVENT
END:VCALENDAR