BEGIN:VCALENDAR
VERSION:2.0
PRODID:-//Westchester Institute for Human Development - ECPv6.0.10//NONSGML v1.0//EN
CALSCALE:GREGORIAN
METHOD:PUBLISH
X-WR-CALNAME:Westchester Institute for Human Development
X-ORIGINAL-URL:https://www.wihd.org
X-WR-CALDESC:Events for Westchester Institute for Human Development
REFRESH-INTERVAL;VALUE=DURATION:PT1H
X-Robots-Tag:noindex
X-PUBLISHED-TTL:PT1H
BEGIN:VTIMEZONE
TZID:America/New_York
BEGIN:DAYLIGHT
TZOFFSETFROM:-0500
TZOFFSETTO:-0400
TZNAME:EDT
DTSTART:20250309T070000
END:DAYLIGHT
BEGIN:STANDARD
TZOFFSETFROM:-0400
TZOFFSETTO:-0500
TZNAME:EST
DTSTART:20251102T060000
END:STANDARD
END:VTIMEZONE
BEGIN:VEVENT
DTSTART;TZID=America/New_York:20250212T120000
DTEND;TZID=America/New_York:20250212T130000
DTSTAMP:20260423T032230
CREATED:20241230T222029Z
LAST-MODIFIED:20241230T222029Z
UID:19742-1739361600-1739365200@www.wihd.org
SUMMARY:OPWDD Self-Direction
DESCRIPTION:Learn about OPWDD’s self-direction services which allows for more choice in OPWDD-funded supports and services. The individual must be eligible for OPWDD services and participating in Care Management services through a Care Coordination Organization (CCO) to be approved for self-direction. Therefore\, it is recommended that you first attend a workshop on OPWDD eligibility if the person with the disability does not already have it. \nZoom Registration Link: Click Here
URL:https://www.wihd.org/event/opwdd-self-direction-11/
LOCATION:Zoom
CATEGORIES:Regional,Virtual Stream,WIHD
END:VEVENT
BEGIN:VEVENT
DTSTART;TZID=America/New_York:20250212T180000
DTEND;TZID=America/New_York:20250212T193000
DTSTAMP:20260423T032230
CREATED:20250109T012704Z
LAST-MODIFIED:20250109T124226Z
UID:19775-1739383200-1739388600@www.wihd.org
SUMMARY:Supporting Your Child in Work Based Learning Experiences
DESCRIPTION:The purpose of Supporting Your Child in Work-Based Learning (WBL) Experiences is to provide families and guardians with the foundational knowledge of what high-quality WBL looks like in New York State (NYS). It includes but is not limited to: exploring registered and unregistered program options available to students with disabilities\, reviewing the career development process and the NYS framework for Work Based Learning. It also includes determining who the essential partners are\, in order to ensure students are receiving an individualized and collaborative experience\, and identifying activities and strategies to increase career awareness and development\, in the home and community. \nZoom Link: Click Here
URL:https://www.wihd.org/event/supporting-your-child-in-work-based-learning-experience/
LOCATION:Zoom
CATEGORIES:Regional,Virtual Stream,WIHD
END:VEVENT
END:VCALENDAR