BEGIN:VCALENDAR
VERSION:2.0
PRODID:-//Westchester Institute for Human Development - ECPv6.0.10//NONSGML v1.0//EN
CALSCALE:GREGORIAN
METHOD:PUBLISH
X-ORIGINAL-URL:https://www.wihd.org
X-WR-CALDESC:Events for Westchester Institute for Human Development
REFRESH-INTERVAL;VALUE=DURATION:PT1H
X-Robots-Tag:noindex
X-PUBLISHED-TTL:PT1H
BEGIN:VTIMEZONE
TZID:America/New_York
BEGIN:DAYLIGHT
TZOFFSETFROM:-0500
TZOFFSETTO:-0400
TZNAME:EDT
DTSTART:20250309T070000
END:DAYLIGHT
BEGIN:STANDARD
TZOFFSETFROM:-0400
TZOFFSETTO:-0500
TZNAME:EST
DTSTART:20251102T060000
END:STANDARD
END:VTIMEZONE
BEGIN:VEVENT
DTSTART;TZID=America/New_York:20250121T120000
DTEND;TZID=America/New_York:20250121T140000
DTSTAMP:20260423T051038
CREATED:20240927T113727Z
LAST-MODIFIED:20241002T142251Z
UID:19339-1737460800-1737468000@www.wihd.org
SUMMARY:Positive Behavior Solutions for Families (series)
DESCRIPTION:Join us for a four-session workshop series for parents\, families\, and caregivers of children ages 2-5. These sessions will provide strategies to support your children’s social and emotional development and address challenging behaviors in a positive\, effective way. \nWorkshop details:\nFour sessions*\, once a month on a Tuesday from 12-2pm\nOct 15 Making the Connection & Keeping it Positive\nNov 19 Behavior Has Meaning & the Power of Routine\nDec 17 Teach Me What to Do & Responding with Purpose\nJan 21 Putting It All Together with a Plan \n*Attending all four sessions is encouraged but optional. Resources and tools will be provided before each session. \nZoom Registration Link: Click Here
URL:https://www.wihd.org/event/positive-behavior-solutions-for-families-series-4/
LOCATION:Zoom
CATEGORIES:Regional,Virtual Stream,WIHD
END:VEVENT
BEGIN:VEVENT
DTSTART;TZID=America/New_York:20250121T180000
DTEND;TZID=America/New_York:20250121T193000
DTSTAMP:20260423T051038
CREATED:20241029T235910Z
LAST-MODIFIED:20241029T235910Z
UID:19522-1737482400-1737487800@www.wihd.org
SUMMARY:Future Planning Series: How Do We Pass The Torch?  Transition Planning in Preparation for Aging Series  Workshop 4 - Care Support
DESCRIPTION:This 6- workshop series aims to provide caregivers with the directions for creating a transition plan for who next will be responsible for supporting their loved one. At the end of the workshop series\, the caregiver will have the knowledge to create a caregiver transition plan\, which will include the systems\, people and processes needed to successfully support their loved one so that they live life to the fullest. \nWorkshop 4: \nEnsuring that your loved one’s care operates smoothly is an important part of future planning. This includes management of staff\, benefits\, career\, recreational activities\, and\, if applicable\, property and physical assets. Allison Kleinman\, CEO of Future Centered Care will share about care support services offered by her organization. \nZoom Registration Link: Click Here
URL:https://www.wihd.org/event/future-planning-series-how-do-we-pass-the-torch-transition-planning-in-preparation-for-aging-series-workshop-4-care-support/
LOCATION:Zoom
CATEGORIES:Regional,Virtual Stream,WIHD
END:VEVENT
END:VCALENDAR