BEGIN:VCALENDAR
VERSION:2.0
PRODID:-//Westchester Institute for Human Development - ECPv6.0.10//NONSGML v1.0//EN
CALSCALE:GREGORIAN
METHOD:PUBLISH
X-WR-CALNAME:Westchester Institute for Human Development
X-ORIGINAL-URL:https://www.wihd.org
X-WR-CALDESC:Events for Westchester Institute for Human Development
REFRESH-INTERVAL;VALUE=DURATION:PT1H
X-Robots-Tag:noindex
X-PUBLISHED-TTL:PT1H
BEGIN:VTIMEZONE
TZID:America/New_York
BEGIN:DAYLIGHT
TZOFFSETFROM:-0500
TZOFFSETTO:-0400
TZNAME:EDT
DTSTART:20250309T070000
END:DAYLIGHT
BEGIN:STANDARD
TZOFFSETFROM:-0400
TZOFFSETTO:-0500
TZNAME:EST
DTSTART:20251102T060000
END:STANDARD
END:VTIMEZONE
BEGIN:VEVENT
DTSTART;TZID=America/New_York:20250109T120000
DTEND;TZID=America/New_York:20250109T130000
DTSTAMP:20260423T050057
CREATED:20241212T213159Z
LAST-MODIFIED:20241212T213159Z
UID:19716-1736424000-1736427600@www.wihd.org
SUMMARY:Monthly Decision Making Series  Workshop #3: Guardianship Workshop
DESCRIPTION:Join us for our three-workshop series where we will present instruments and methods used to support loved ones with disabilities in making choices as they approach the age of adulthood. \nWorkshop #3: Guardianship Workshop \nThis workshop is intended for individuals who have already attended our monthly Supported Decision Making\, Guardianship\, and other Alternatives workshop\, and have determined that guardianship is the most appropriate alternative. Since guardianship is considered the most restrictive form of decision support\, it is recommended that you also attend the Digging in to Supported Decision-Making workshop before signing up for this one. We will review the process of putting together a petition for guardianship and the documentation requirements. \nZoom Registration Link: Click Here
URL:https://www.wihd.org/event/monthly-decision-making-series-workshop-3-guardianship-workshop-14/
LOCATION:Zoom
CATEGORIES:Regional,Virtual Stream,WIHD
END:VEVENT
BEGIN:VEVENT
DTSTART;TZID=America/New_York:20250109T160000
DTEND;TZID=America/New_York:20250109T180000
DTSTAMP:20260423T050057
CREATED:20241210T160003Z
LAST-MODIFIED:20241211T004941Z
UID:19691-1736438400-1736445600@www.wihd.org
SUMMARY:Special Education 101: Virtual Training of the Parent Member
DESCRIPTION:NOTE: THIS IS A FOUR HOUR TRAINING BEING HELD OVER TWO DATES\, JANUARY 9 AND JANUARY 16\, FROM 4PM-6PM.   \nFOUR HOURS MUST BE COMPLETED TO RECEIVE CERTIFICATION.   \nWe offer our 4-hour Virtual Parent Member Training four times per year\, via Zoom. Participants will learn about the entire Committee for Special Education (CSE) process\, and those eligible can join committee meetings as a volunteer Parent Member. This is wonderful opportunity to build community in your district\, support other parents\, and learn more about the CSE process to support your own child! While this training is open to anyone who would like to learn more about special education\, parents or guardians whose child has or had an IEP in the last 5 years\, will receive a certificate for submission to their school district to serve as a Parent Member at CPSE/CSE meetings. \nNote: This is a four-hour training. January sessions are 4-6 pm over 2 dates\, January 9 and January 16. Four hours must be completed to receive certification. \nClick here to register
URL:https://www.wihd.org/event/special-education-101-virtual-training-of-the-parent-member/
LOCATION:Zoom
CATEGORIES:Regional,Virtual Stream,WIHD
END:VEVENT
END:VCALENDAR