BEGIN:VCALENDAR
VERSION:2.0
PRODID:-//Westchester Institute for Human Development - ECPv6.0.10//NONSGML v1.0//EN
CALSCALE:GREGORIAN
METHOD:PUBLISH
X-ORIGINAL-URL:https://www.wihd.org
X-WR-CALDESC:Events for Westchester Institute for Human Development
REFRESH-INTERVAL;VALUE=DURATION:PT1H
X-Robots-Tag:noindex
X-PUBLISHED-TTL:PT1H
BEGIN:VTIMEZONE
TZID:America/New_York
BEGIN:DAYLIGHT
TZOFFSETFROM:-0500
TZOFFSETTO:-0400
TZNAME:EDT
DTSTART:20260308T070000
END:DAYLIGHT
BEGIN:STANDARD
TZOFFSETFROM:-0400
TZOFFSETTO:-0500
TZNAME:EST
DTSTART:20261101T060000
END:STANDARD
END:VTIMEZONE
BEGIN:VEVENT
DTSTART;TZID=America/New_York:20260422T120000
DTEND;TZID=America/New_York:20260422T130000
DTSTAMP:20260421T041527
CREATED:20260407T163537Z
LAST-MODIFIED:20260407T163537Z
UID:21365-1776859200-1776862800@www.wihd.org
SUMMARY:Office for People with Developmental Disabilities (OPWDD) Services and Eligibility
DESCRIPTION:Please join us for a workshop on OPWDD services and eligibility. The New York State Office for People With Developmental Disabilities (OPWDD) is responsible for coordinating services for New Yorkers with developmental and intellectual disabilities. Through this workshop you will learn about the range of OPWDD services available to you and your loved one\, and about the requirements for service eligibility. \nZoom Registration: Click Here
URL:https://www.wihd.org/event/office-for-people-with-developmental-disabilities-opwdd-services-and-eligibility-27/
LOCATION:Zoom
CATEGORIES:Regional,Virtual Stream,WIHD
END:VEVENT
BEGIN:VEVENT
DTSTART;TZID=America/New_York:20260422T173000
DTEND;TZID=America/New_York:20260422T190000
DTSTAMP:20260421T041527
CREATED:20260417T143046Z
LAST-MODIFIED:20260417T143729Z
UID:21382-1776879000-1776884400@www.wihd.org
SUMMARY:Special Education and Neurodiversity Fair
DESCRIPTION:Join us for the first annual Westchester County Special Education\n& Neurodiversity Resource Fair\, an inclusive community event designed to support families\, students\, and educators.\n\n\n  \nClick Here for Flyer and Registration
URL:https://www.wihd.org/event/special-education-neurodiversity-fair/
LOCATION:Rebecca School North\, 1 Bradford Road\, Mt. Vernon\, NY\, 10553
CATEGORIES:Regional,Virtual Stream,WIHD
END:VEVENT
BEGIN:VEVENT
DTSTART;TZID=America/New_York:20260422T180000
DTEND;TZID=America/New_York:20260422T190000
DTSTAMP:20260421T041527
CREATED:20260311T145719Z
LAST-MODIFIED:20260311T145719Z
UID:21267-1776880800-1776884400@www.wihd.org
SUMMARY:Pre-Employment Transition (PRE-ETS) Informational Webinar
DESCRIPTION:Join us to learn about Pre-Employment Transition Services offered through Access-VR!\nThe Goal of Pre-ETS are to:\n*Improve transition results for students with disabilities in post-secondary education or employment.\n*Become prepared for the workplace through experiences in integrated work settings\n*Increase opportunities to explore post-secondary training option \nClick Here for Flyer and Registration
URL:https://www.wihd.org/event/pre-employment-transition-pre-ets-informational-webinar/
LOCATION:Zoom
CATEGORIES:Regional,Virtual Stream,WIHD
END:VEVENT
END:VCALENDAR