BEGIN:VCALENDAR
VERSION:2.0
PRODID:-//Westchester Institute for Human Development - ECPv6.0.10//NONSGML v1.0//EN
CALSCALE:GREGORIAN
METHOD:PUBLISH
X-ORIGINAL-URL:https://www.wihd.org
X-WR-CALDESC:Events for Westchester Institute for Human Development
REFRESH-INTERVAL;VALUE=DURATION:PT1H
X-Robots-Tag:noindex
X-PUBLISHED-TTL:PT1H
BEGIN:VTIMEZONE
TZID:America/New_York
BEGIN:DAYLIGHT
TZOFFSETFROM:-0500
TZOFFSETTO:-0400
TZNAME:EDT
DTSTART:20260308T070000
END:DAYLIGHT
BEGIN:STANDARD
TZOFFSETFROM:-0400
TZOFFSETTO:-0500
TZNAME:EST
DTSTART:20261101T060000
END:STANDARD
END:VTIMEZONE
BEGIN:VEVENT
DTSTART;TZID=America/New_York:20260312T120000
DTEND;TZID=America/New_York:20260312T133000
DTSTAMP:20260421T072336
CREATED:20260207T161528Z
LAST-MODIFIED:20260207T161528Z
UID:21170-1773316800-1773322200@www.wihd.org
SUMMARY:Testing Accommodations for Students with Disabilities
DESCRIPTION:This training will help participants understand the appropriate use of test accommodations for students with disabilities. It will provide information related to the decision-making process\, the types of test accommodations that are available\, and how they are documented on the student’s Individualized Education Program (IEP). \nZoom Registration: Click Here
URL:https://www.wihd.org/event/testing-accommodations-for-students-with-disabilities-8/
LOCATION:Zoom
CATEGORIES:Regional,Virtual Stream,WIHD
END:VEVENT
BEGIN:VEVENT
DTSTART;TZID=America/New_York:20260312T191500
DTEND;TZID=America/New_York:20260312T203000
DTSTAMP:20260421T072336
CREATED:20260203T191737Z
LAST-MODIFIED:20260305T201321Z
UID:21156-1773342900-1773347400@www.wihd.org
SUMMARY:ABLE (Achieving a Better Life Experience) Account Basics
DESCRIPTION:Would you like to learn more about Achieving a Better Life Experience (ABLE) accounts? \nCome to this workshop to find out how this financial tool can helpindividuals with disabilities save while receiving benefits. What is an ABLE account\, how it works and the eligibility requirements will be discussed. Potential ABLE participants and their families are invited. \nClick Here to Join Zoom: https://zoom.us/join \nMeeting ID and passcode (case sensitive) required \nMeeting ID: 328 256 0387 \nPasscode: ug8pUL
URL:https://www.wihd.org/event/able-achieving-a-better-life-experience-account-basics-5/
LOCATION:Zoom
CATEGORIES:Regional,Virtual Stream,WIHD
END:VEVENT
END:VCALENDAR