BEGIN:VCALENDAR
VERSION:2.0
PRODID:-//Westchester Institute for Human Development - ECPv6.0.10//NONSGML v1.0//EN
CALSCALE:GREGORIAN
METHOD:PUBLISH
X-WR-CALNAME:Westchester Institute for Human Development
X-ORIGINAL-URL:https://www.wihd.org
X-WR-CALDESC:Events for Westchester Institute for Human Development
REFRESH-INTERVAL;VALUE=DURATION:PT1H
X-Robots-Tag:noindex
X-PUBLISHED-TTL:PT1H
BEGIN:VTIMEZONE
TZID:America/New_York
BEGIN:DAYLIGHT
TZOFFSETFROM:-0500
TZOFFSETTO:-0400
TZNAME:EDT
DTSTART:20260308T070000
END:DAYLIGHT
BEGIN:STANDARD
TZOFFSETFROM:-0400
TZOFFSETTO:-0500
TZNAME:EST
DTSTART:20261101T060000
END:STANDARD
END:VTIMEZONE
BEGIN:VEVENT
DTSTART;TZID=America/New_York:20260309T120000
DTEND;TZID=America/New_York:20260309T133000
DTSTAMP:20260421T072205
CREATED:20260224T231607Z
LAST-MODIFIED:20260224T231607Z
UID:21219-1773057600-1773063000@www.wihd.org
SUMMARY:What Is an Individualized Education Program (IEP)? For Families of School-Age Students
DESCRIPTION:Parents and families are an important part of the Special Education process. Participants will gain a foundational understanding of the entire IEP process\, including but not limited to\, the Committee on Special Education (CSE)\, the roles and responsibilities of all parties\, the various components of the IEP\, and the transition planning process. \nZoom Registration Link: Click Here
URL:https://www.wihd.org/event/what-is-an-individualized-education-program-iep-for-families-of-school-age-students-8/
LOCATION:Zoom
CATEGORIES:Regional,Virtual Stream,WIHD
END:VEVENT
BEGIN:VEVENT
DTSTART;TZID=America/New_York:20260309T180000
DTEND;TZID=America/New_York:20260309T190000
DTSTAMP:20260421T072205
CREATED:20260209T171327Z
LAST-MODIFIED:20260305T212931Z
UID:21180-1773079200-1773082800@www.wihd.org
SUMMARY:Readers with Disabilities Book Club
DESCRIPTION:An inclusive book club for adults of ALL READING LEVELS. Read anything you like and join us each month for a fun discussion about all things books and disability literature. \nClick Here for Zoom Registration
URL:https://www.wihd.org/event/readers-with-disabilities-book-club-4/
LOCATION:Zoom
CATEGORIES:Regional,Virtual Stream,WIHD
END:VEVENT
BEGIN:VEVENT
DTSTART;TZID=America/New_York:20260309T180000
DTEND;TZID=America/New_York:20260309T190000
DTSTAMP:20260421T072205
CREATED:20260217T232503Z
LAST-MODIFIED:20260217T232503Z
UID:21195-1773079200-1773082800@www.wihd.org
SUMMARY:Grupo de familias con hijos en Educacion Especial/Spanish Speaking Special Education Group
DESCRIPTION:Aprenda de los Aprenda de los expertos en Español \nTemas a tratar:\nSalud familiar\, Educacion Especial\, Comunicacion con el personal del colegio\, Comunicacion con medicos\, como conseguir ayuda para sus hijos. \nClick Here for Flyer and Registration
URL:https://www.wihd.org/event/grupo-de-familias-con-hijos-en-educacion-especial-spanish-speaking-special-education-group-6/
LOCATION:Zoom
CATEGORIES:Regional,Virtual Stream,WIHD
END:VEVENT
END:VCALENDAR