BEGIN:VCALENDAR
VERSION:2.0
PRODID:-//Westchester Institute for Human Development - ECPv6.0.10//NONSGML v1.0//EN
CALSCALE:GREGORIAN
METHOD:PUBLISH
X-WR-CALNAME:Westchester Institute for Human Development
X-ORIGINAL-URL:https://www.wihd.org
X-WR-CALDESC:Events for Westchester Institute for Human Development
REFRESH-INTERVAL;VALUE=DURATION:PT1H
X-Robots-Tag:noindex
X-PUBLISHED-TTL:PT1H
BEGIN:VTIMEZONE
TZID:America/New_York
BEGIN:DAYLIGHT
TZOFFSETFROM:-0500
TZOFFSETTO:-0400
TZNAME:EDT
DTSTART:20260308T070000
END:DAYLIGHT
BEGIN:STANDARD
TZOFFSETFROM:-0400
TZOFFSETTO:-0500
TZNAME:EST
DTSTART:20261101T060000
END:STANDARD
END:VTIMEZONE
BEGIN:VEVENT
DTSTART;TZID=America/New_York:20260227T100000
DTEND;TZID=America/New_York:20260227T231500
DTSTAMP:20260421T071046
CREATED:20250912T113058Z
LAST-MODIFIED:20250912T113058Z
UID:20757-1772186400-1772234100@www.wihd.org
SUMMARY:Office for People with Developmental Disabilities (OPWDD) Services and Eligibility
DESCRIPTION:Please join us for a workshop on OPWDD services and eligibility. The New York State Office for People With Developmental Disabilities (OPWDD) is responsible for coordinating services for New Yorkers with developmental and intellectual disabilities. Through this workshop you will learn about the range of OPWDD services available to you and your loved one\, and about the requirements for service eligibility. \nZoom Registration: Click Here
URL:https://www.wihd.org/event/office-for-people-with-developmental-disabilities-opwdd-services-and-eligibility-21/
LOCATION:NY
CATEGORIES:Regional,Virtual Stream,WIHD
END:VEVENT
BEGIN:VEVENT
DTSTART;TZID=America/New_York:20260227T120000
DTEND;TZID=America/New_York:20260227T130000
DTSTAMP:20260421T071046
CREATED:20260128T000115Z
LAST-MODIFIED:20260128T000115Z
UID:21130-1772193600-1772197200@www.wihd.org
SUMMARY:Self-Direction: An Overview
DESCRIPTION:Learn about OPWDD’s self-direction services which allows for more choice in OPWDD-funded supports and services. The individual must be eligible for OPWDD services and participating in Care Management services through a Care Coordination Organization (CCO) to be approved for self-direction. Therefore\, it is recommended that you first attend a workshop on OPWDD eligibility if the person with the disability does not already have it. \nZoom Registration: Click Here
URL:https://www.wihd.org/event/self-direction-an-overview-8/
LOCATION:Zoom
CATEGORIES:Regional,Virtual Stream,WIHD
END:VEVENT
END:VCALENDAR