BEGIN:VCALENDAR
VERSION:2.0
PRODID:-//Westchester Institute for Human Development - ECPv6.0.10//NONSGML v1.0//EN
CALSCALE:GREGORIAN
METHOD:PUBLISH
X-ORIGINAL-URL:https://www.wihd.org
X-WR-CALDESC:Events for Westchester Institute for Human Development
REFRESH-INTERVAL;VALUE=DURATION:PT1H
X-Robots-Tag:noindex
X-PUBLISHED-TTL:PT1H
BEGIN:VTIMEZONE
TZID:America/New_York
BEGIN:DAYLIGHT
TZOFFSETFROM:-0500
TZOFFSETTO:-0400
TZNAME:EDT
DTSTART:20260308T070000
END:DAYLIGHT
BEGIN:STANDARD
TZOFFSETFROM:-0400
TZOFFSETTO:-0500
TZNAME:EST
DTSTART:20261101T060000
END:STANDARD
END:VTIMEZONE
BEGIN:VEVENT
DTSTART;TZID=America/New_York:20260212T180000
DTEND;TZID=America/New_York:20260212T190000
DTSTAMP:20260421T090134
CREATED:20260112T184516Z
LAST-MODIFIED:20260112T184516Z
UID:21098-1770919200-1770922800@www.wihd.org
SUMMARY:Westchester Institute of Human Development Clinician Services
DESCRIPTION:Have you ever wondered what services are provided at Westchester Institute of Human Development? \nIzel Steinmann Obermeyer\, PhD\, the Chief Clinical Officer at WIHD will share information about all the clinical services provided at WIHD. She will discuss medical\, dental\, behavioral health and allied health services in more detail. Join this session to learn more about the comprehensive model of services at the Westchester Institute for Human Development: your one stop shop for the integration of most of your health care needs. \nZoom Registration: Click Here
URL:https://www.wihd.org/event/westchester-institute-of-human-development-clinician-services/
LOCATION:Zoom
CATEGORIES:Regional,Virtual Stream,WIHD
END:VEVENT
END:VCALENDAR