BEGIN:VCALENDAR
VERSION:2.0
PRODID:-//Westchester Institute for Human Development - ECPv6.0.10//NONSGML v1.0//EN
CALSCALE:GREGORIAN
METHOD:PUBLISH
X-ORIGINAL-URL:https://www.wihd.org
X-WR-CALDESC:Events for Westchester Institute for Human Development
REFRESH-INTERVAL;VALUE=DURATION:PT1H
X-Robots-Tag:noindex
X-PUBLISHED-TTL:PT1H
BEGIN:VTIMEZONE
TZID:America/New_York
BEGIN:DAYLIGHT
TZOFFSETFROM:-0500
TZOFFSETTO:-0400
TZNAME:EDT
DTSTART:20260308T070000
END:DAYLIGHT
BEGIN:STANDARD
TZOFFSETFROM:-0400
TZOFFSETTO:-0500
TZNAME:EST
DTSTART:20261101T060000
END:STANDARD
END:VTIMEZONE
BEGIN:VEVENT
DTSTART;TZID=America/New_York:20260205T123000
DTEND;TZID=America/New_York:20260205T140000
DTSTAMP:20260421T090116
CREATED:20260114T115204Z
LAST-MODIFIED:20260114T115204Z
UID:21103-1770294600-1770300000@www.wihd.org
SUMMARY:Supporting Your Child in Work Based Learning Experiences
DESCRIPTION:The purpose of Supporting Your Child in Work-Based Learning (WBL) Experiences is to provide families and guardians with the foundational knowledge of what high-quality WBL looks like in New York State (NYS) including but not limited to: exploring registered and unregistered program options available to students with disabilities\, reviewing the career development process and the NYS framework for WBL\, determining who the essential partners are in order to ensure students are receiving an individualized and collaborative experience\, and identifying activities and strategies to increase career awareness and development in the home and community. \nZoom Registration: Click Here
URL:https://www.wihd.org/event/supporting-your-child-in-work-based-learning-experiences-3/
LOCATION:Zoom
CATEGORIES:Regional,Virtual Stream,WIHD
END:VEVENT
BEGIN:VEVENT
DTSTART;TZID=America/New_York:20260205T180000
DTEND;TZID=America/New_York:20260205T190000
DTSTAMP:20260421T090116
CREATED:20260105T152313Z
LAST-MODIFIED:20260106T143438Z
UID:21085-1770314400-1770318000@www.wihd.org
SUMMARY:CPSE to CSE: Transition from Preschool Special Education to Kindergarten
DESCRIPTION:In this workshop\, participants will gain valuable insight into the kindergarten transition\, including how to be an effective member of the transition team\, the differences between CPSE and CSE services\, and the purpose of an Individualized Education Program (IEP). Parents and caregivers will leave with a clearer understanding of what to expect as their child takes this important next step. \nZoom Registration: Click Here
URL:https://www.wihd.org/event/cpse-to-cse-transition-from-preschool-special-education-to-kindergarten-2/
LOCATION:Zoom
CATEGORIES:Regional,Virtual Stream,WIHD
END:VEVENT
BEGIN:VEVENT
DTSTART;TZID=America/New_York:20260205T180000
DTEND;TZID=America/New_York:20260205T191500
DTSTAMP:20260421T090116
CREATED:20251121T184824Z
LAST-MODIFIED:20251121T185652Z
UID:20987-1770314400-1770318900@www.wihd.org
SUMMARY:Supplemental Security Income (SSI) Basics
DESCRIPTION:Are you considering applying for Supplemental Security Income (SSI) for your family member? Come to this workshop to learn some tips and tricks to the application process. When and how to apply\, the eligibility requirements and how to best make the process less stressful. \nZoom Link: Click Here to Join \n 
URL:https://www.wihd.org/event/supplemental-security-income-ssi-basics-13/
LOCATION:Zoom
CATEGORIES:Regional,Virtual Stream,WIHD
END:VEVENT
END:VCALENDAR