BEGIN:VCALENDAR
VERSION:2.0
PRODID:-//Westchester Institute for Human Development - ECPv6.0.10//NONSGML v1.0//EN
CALSCALE:GREGORIAN
METHOD:PUBLISH
X-WR-CALNAME:Westchester Institute for Human Development
X-ORIGINAL-URL:https://www.wihd.org
X-WR-CALDESC:Events for Westchester Institute for Human Development
REFRESH-INTERVAL;VALUE=DURATION:PT1H
X-Robots-Tag:noindex
X-PUBLISHED-TTL:PT1H
BEGIN:VTIMEZONE
TZID:America/New_York
BEGIN:DAYLIGHT
TZOFFSETFROM:-0500
TZOFFSETTO:-0400
TZNAME:EDT
DTSTART:20260308T070000
END:DAYLIGHT
BEGIN:STANDARD
TZOFFSETFROM:-0400
TZOFFSETTO:-0500
TZNAME:EST
DTSTART:20261101T060000
END:STANDARD
END:VTIMEZONE
BEGIN:VEVENT
DTSTART;TZID=America/New_York:20260120T120000
DTEND;TZID=America/New_York:20260120T131500
DTSTAMP:20260421T102005
CREATED:20251219T013556Z
LAST-MODIFIED:20251219T173146Z
UID:21066-1768910400-1768914900@www.wihd.org
SUMMARY:Supported Decision-Making (SDM)\, Guardianship\, and other Alternatives
DESCRIPTION:In this workshop we will present instruments and methods used to support loved ones with disabilities in making choices as they approach the age of adulthood. \nSupported Decision-Making (SDM)\, Guardianship\, and other Alternatives \nMany parents and caregivers have questions about how best their loved one with intellectual and developmental disabilities may be supported in making decisions as an adult. What are the concerns around guardianship? What about Supported Decision Making? How do advance directives such as health care proxies and durable power of attorney factor in? This workshop should be taken before the Guardianship and Digging into Supported Decision-Making workshops. If you have already taken this WIHD zoom workshop\, please register instead for the Digging in to Supported Decision-Making workshop. \nZoom Registration: Click Here
URL:https://www.wihd.org/event/supported-decision-making-sdm-guardianship-and-other-alternatives-4/
LOCATION:Zoom
CATEGORIES:Regional,Virtual Stream,WIHD
END:VEVENT
END:VCALENDAR