BEGIN:VCALENDAR
VERSION:2.0
PRODID:-//Westchester Institute for Human Development - ECPv6.0.10//NONSGML v1.0//EN
CALSCALE:GREGORIAN
METHOD:PUBLISH
X-WR-CALNAME:Westchester Institute for Human Development
X-ORIGINAL-URL:https://www.wihd.org
X-WR-CALDESC:Events for Westchester Institute for Human Development
REFRESH-INTERVAL;VALUE=DURATION:PT1H
X-Robots-Tag:noindex
X-PUBLISHED-TTL:PT1H
BEGIN:VTIMEZONE
TZID:America/New_York
BEGIN:DAYLIGHT
TZOFFSETFROM:-0500
TZOFFSETTO:-0400
TZNAME:EDT
DTSTART:20260308T070000
END:DAYLIGHT
BEGIN:STANDARD
TZOFFSETFROM:-0400
TZOFFSETTO:-0500
TZNAME:EST
DTSTART:20261101T060000
END:STANDARD
END:VTIMEZONE
BEGIN:VEVENT
DTSTART;TZID=America/New_York:20260113T120000
DTEND;TZID=America/New_York:20260113T133000
DTSTAMP:20260421T102041
CREATED:20250918T202344Z
LAST-MODIFIED:20250918T234723Z
UID:20787-1768305600-1768311000@www.wihd.org
SUMMARY:Positive Solutions for Families (Series)
DESCRIPTION:Positive Solutions for Families \nJoin us for a four-session workshop series for parents\, families\, and caregivers of children ages 2-5. \nThese sessions will provide strategies to support your children’s social and emotional development and address challenging behaviors in a positive\, effective way. \nWorkshop details: Four sessions*\, once a month on a Tuesday from 12-1:30pm \nDates: \nNov 18 Making the Connection & Keeping it Positive \nDec 16 Behavior Has Meaning & the Power of Routine \nJan 13 Teach Me What to Do & Responding with Purpose \nFeb 10 Putting It All Together with a Plan \n*Attending all four sessions is encouraged but optional. Resources and tools will be provided before each session. \nZoom Registration: Click Here
URL:https://www.wihd.org/event/positive-solutions-for-families-series-7/
LOCATION:Zoom
CATEGORIES:Regional,Virtual Stream,WIHD
END:VEVENT
BEGIN:VEVENT
DTSTART;TZID=America/New_York:20260113T180000
DTEND;TZID=America/New_York:20260113T193000
DTSTAMP:20260421T102041
CREATED:20251121T115819Z
LAST-MODIFIED:20251121T115819Z
UID:20981-1768327200-1768332600@www.wihd.org
SUMMARY:Agency 101: Connecting Individuals with Disabilities to Adult Services
DESCRIPTION:An Overview of Services to Support Students with Disabilities into Adulthood: \n“Identifying State and community-based agencies that may be able to provide services to young adults with disabilities is a critical component of transition planning for life after high school. This session will offer a broad overview of several core disability service systems in order to understand the different New York State (NYS) eligibility criteria that must be met to qualify for a variety of supports. The referral and application process as well as the types of services available for each will be reviewed. Families may have to access more than one service provider depending on the type of disability and services they need for their children and young adults with a learning disability\, physical disability\, visual and/or hearing impairment\, intellectual/developmental disability\, mental health disorder or any combination of disabilities. \n*The session will not include the identification of local organizations or details of the specific programs they may offer. Resources will be provided.” \nZoom Registration: Click Here
URL:https://www.wihd.org/event/agency-101-connecting-individuals-with-disabilities-to-adult-services-6/
LOCATION:Zoom
CATEGORIES:Regional,Virtual Stream,WIHD
END:VEVENT
END:VCALENDAR