BEGIN:VCALENDAR
VERSION:2.0
PRODID:-//Westchester Institute for Human Development - ECPv6.0.10//NONSGML v1.0//EN
CALSCALE:GREGORIAN
METHOD:PUBLISH
X-ORIGINAL-URL:https://www.wihd.org
X-WR-CALDESC:Events for Westchester Institute for Human Development
REFRESH-INTERVAL;VALUE=DURATION:PT1H
X-Robots-Tag:noindex
X-PUBLISHED-TTL:PT1H
BEGIN:VTIMEZONE
TZID:America/New_York
BEGIN:DAYLIGHT
TZOFFSETFROM:-0500
TZOFFSETTO:-0400
TZNAME:EDT
DTSTART:20250309T070000
END:DAYLIGHT
BEGIN:STANDARD
TZOFFSETFROM:-0400
TZOFFSETTO:-0500
TZNAME:EST
DTSTART:20251102T060000
END:STANDARD
END:VTIMEZONE
BEGIN:VEVENT
DTSTART;TZID=America/New_York:20250716T090000
DTEND;TZID=America/New_York:20250716T140000
DTSTAMP:20260421T201111
CREATED:20241210T162654Z
LAST-MODIFIED:20241210T162654Z
UID:19695-1752656400-1752674400@www.wihd.org
SUMMARY:Special Education 101: Virtual Training of the Parent Member
DESCRIPTION:We offer our 4-hour Virtual Parent Member Training four times per year\, via Zoom. Participants will learn about the entire Committee for Special Education (CSE) process\, and those eligible can join committee meetings as a volunteer Parent Member. This is wonderful opportunity to build community in your district\, support other parents\, and learn more about the CSE process to support your own child! While this training is open to anyone who would like to learn more about special education\, parents or guardians whose child has or had an IEP in the last 5 years\, will receive a certificate for submission to their school district to serve as a Parent Member at CPSE/CSE meetings. \nNote: This is a four-hour training in two parts\, 9-11 am and 12-2 pm with a one-hour break for lunch. Four hours must be completed to receive certification. \nClick here to register
URL:https://www.wihd.org/event/special-education-101-virtual-training-of-the-parent-member-3/
LOCATION:Zoom
CATEGORIES:Regional,Virtual Stream,WIHD
END:VEVENT
BEGIN:VEVENT
DTSTART;TZID=America/New_York:20250716T120000
DTEND;TZID=America/New_York:20250716T133000
DTSTAMP:20260421T201111
CREATED:20250623T152715Z
LAST-MODIFIED:20250623T153501Z
UID:20509-1752667200-1752672600@www.wihd.org
SUMMARY:How to Foster and Support Self-Determination in All Students
DESCRIPTION:Self-Determination is a research-based predictor of post-school success in the areas of education\, employment\, and independent living. The purpose of this training is to foster and support the development of self-determination skills for students of all ages utilizing a collaborative school and family approach. It provides participants with foundational concepts\, resources\, and strategies to implement and incorporate practices that promote the development of self-determination throughout a student’s day and across all ages. \nZoom Registration: Click Here
URL:https://www.wihd.org/event/how-to-foster-and-support-self-determination-in-all-students/
LOCATION:Zoom
CATEGORIES:Regional,Virtual Stream,WIHD
END:VEVENT
END:VCALENDAR