BEGIN:VCALENDAR
VERSION:2.0
PRODID:-//Westchester Institute for Human Development - ECPv6.0.10//NONSGML v1.0//EN
CALSCALE:GREGORIAN
METHOD:PUBLISH
X-WR-CALNAME:Westchester Institute for Human Development
X-ORIGINAL-URL:https://www.wihd.org
X-WR-CALDESC:Events for Westchester Institute for Human Development
REFRESH-INTERVAL;VALUE=DURATION:PT1H
X-Robots-Tag:noindex
X-PUBLISHED-TTL:PT1H
BEGIN:VTIMEZONE
TZID:America/New_York
BEGIN:DAYLIGHT
TZOFFSETFROM:-0500
TZOFFSETTO:-0400
TZNAME:EDT
DTSTART:20250309T070000
END:DAYLIGHT
BEGIN:STANDARD
TZOFFSETFROM:-0400
TZOFFSETTO:-0500
TZNAME:EST
DTSTART:20251102T060000
END:STANDARD
END:VTIMEZONE
BEGIN:VEVENT
DTSTART;TZID=America/New_York:20250709T120000
DTEND;TZID=America/New_York:20250709T131500
DTSTAMP:20260421T201105
CREATED:20250618T135407Z
LAST-MODIFIED:20250618T135407Z
UID:20497-1752062400-1752066900@www.wihd.org
SUMMARY:Monthly Decision Making Series Workshop #2: Digging in to Supported Decision-Making
DESCRIPTION:Join us for our three-workshop series where we will present instruments and methods used to support loved ones with disabilities in making choices as they approach the age of adulthood. \nWorkshop #2: Digging in to Supported Decision-Making \nThis workshop is intended for individuals who have already attended our monthly Supported Decision Making\, Guardianship\, and other Alternatives workshop\, and want to know more about SDM. We will review Article 82\, the NY State supported decision making law\, and will answer SDM-specific questions. \nZoom Registration Link: Click Here
URL:https://www.wihd.org/event/monthly-decision-making-series-workshop-2-digging-in-to-supported-decision-making-20/
LOCATION:Zoom
CATEGORIES:Regional,Virtual Stream,WIHD
END:VEVENT
END:VCALENDAR