BEGIN:VCALENDAR
VERSION:2.0
PRODID:-//Westchester Institute for Human Development - ECPv6.0.10//NONSGML v1.0//EN
CALSCALE:GREGORIAN
METHOD:PUBLISH
X-WR-CALNAME:Westchester Institute for Human Development
X-ORIGINAL-URL:https://www.wihd.org
X-WR-CALDESC:Events for Westchester Institute for Human Development
REFRESH-INTERVAL;VALUE=DURATION:PT1H
X-Robots-Tag:noindex
X-PUBLISHED-TTL:PT1H
BEGIN:VTIMEZONE
TZID:America/New_York
BEGIN:DAYLIGHT
TZOFFSETFROM:-0500
TZOFFSETTO:-0400
TZNAME:EDT
DTSTART:20250309T070000
END:DAYLIGHT
BEGIN:STANDARD
TZOFFSETFROM:-0400
TZOFFSETTO:-0500
TZNAME:EST
DTSTART:20251102T060000
END:STANDARD
END:VTIMEZONE
BEGIN:VEVENT
DTSTART;TZID=America/New_York:20250708T120000
DTEND;TZID=America/New_York:20250708T130000
DTSTAMP:20260421T201100
CREATED:20250618T133613Z
LAST-MODIFIED:20250618T145852Z
UID:20494-1751976000-1751979600@www.wihd.org
SUMMARY:Monthly Decision Making Series Workshop #1: Supported Decision-Making (SDM)\, Guardianship\, and other Alternatives
DESCRIPTION:Join us for our three-workshop series where we will present instruments and methods used to support loved ones with disabilities in making choices as they approach the age of adulthood. \nWorkshop #1: Supported Decision-Making (SDM)\, Guardianship\, and other Alternatives \nMany parents and caregivers have questions about how best their loved one with intellectual and developmental disabilities may be supported in making decisions as an adult. What are the concerns around guardianship? What about Supported Decision Making? How do advance directives such as health care proxies and durable power of attorney factor in? This workshop should be taken before the Guardianship and Digging into Supported Decision-Making workshops. If you have already taken this WIHD zoom workshop\, please register instead for the Digging in to Supported Decision-Making workshop. \nZoom Registration Link: Click Here
URL:https://www.wihd.org/event/monthly-decision-making-series-workshop-1-supported-decision-making-sdm-guardianship-and-other-alternatives-20/
LOCATION:Zoom
CATEGORIES:Regional,Virtual Stream,WIHD
END:VEVENT
BEGIN:VEVENT
DTSTART;TZID=America/New_York:20250708T120000
DTEND;TZID=America/New_York:20250708T133000
DTSTAMP:20260421T201100
CREATED:20250605T223946Z
LAST-MODIFIED:20250605T223946Z
UID:20485-1751976000-1751981400@www.wihd.org
SUMMARY:Agency 101 - Connecting Individuals with Disabilities to Adult Services
DESCRIPTION:Identifying State and community-based agencies that may be able to provide services to young adults with disabilities is a critical component of transition planning for life after high school. This session will offer a broad overview of several core disability service systems in order to understand the different eligibility criteria that must be met to qualify for a variety of supports. The referral and application process as well as the types of services available for each will be reviewed. Families may have to access more than one service provider depending on the type of disability and services they need for their children and young adults with a learning disability\, physical disability\, visual and/or hearing impairment\, intellectual/developmental disability\, mental health disorder or any combination of disabilities. \n*The session will not include the identification of local organizations or details of the specific programs they may offer. Resources will be provided. \nZoom Registration Link: Click Here
URL:https://www.wihd.org/event/agency-101-connecting-individuals-with-disabilities-to-adult-services-5/
LOCATION:Zoom
CATEGORIES:Regional,Virtual Stream,WIHD
END:VEVENT
END:VCALENDAR